BEGIN:VCALENDAR
VERSION:2.0
PRODID:-//ChamberMaster//Event Calendar 2.0//EN
METHOD:PUBLISH
X-PUBLISHED-TTL:P3D
REFRESH-INTERVAL:P3D
CALSCALE:GREGORIAN
BEGIN:VEVENT
DTSTART:20201205T010000Z
DTEND:20201205T023000Z
X-MICROSOFT-CDO-ALLDAYEVENT:FALSE
SUMMARY:Super Raffle ZOOM Holiday Watch Party
DESCRIPTION:This year's Super Raffle will be a ZOOM Holiday Watch Party!\n\nCASH PRIZES - Only 100 tickets will be sold!!! \n\n$50 per ticket - Choose your lucky number now     1-99 \n\nTicket #100 will be sold during event for a greater chance of winning big $$$\n\n\n\nZoom Watch Party information will be available to registrants prior to the event.
X-ALT-DESC;FMTTYPE=text/html:<span style="font-size:18px\;"><strong>This year&#39\;s Super Raffle will be a ZOOM Holiday Watch Party!</strong></span><br />\n<strong style="font-size: 18px\;">CASH PRIZES -&nbsp\;Only 100 tickets will be sold!!!&nbsp\;</strong><br />\n<span style="font-size:18px\;"><strong>$50 per ticket - </strong></span><strong style="font-size: 18px\;">Choose your lucky number now &gt\;&gt\;&gt\; 1-99</strong><span style="font-size:18px\;"><strong>&nbsp\;<br />\nTicket #100 will be sold during event for a greater chance of winning big $$$</strong></span><br />\n<br />\n<b>Zoom Watch Party information will be available to registrants prior to the event.</b><br />\n<br />\n&nbsp\;
LOCATION:Zoom Watch Party information will be available to registrants prior to the event.
UID:e.2066.3411
SEQUENCE:3
DTSTAMP:20260423T224151Z
URL:https://dev.chainolakeschamber.com/events/details/super-raffle-zoom-holiday-watch-party-3411
END:VEVENT

END:VCALENDAR
