BEGIN:VCALENDAR
VERSION:2.0
PRODID:-//ChamberMaster//Event Calendar 2.0//EN
METHOD:PUBLISH
X-PUBLISHED-TTL:P3D
REFRESH-INTERVAL:P3D
CALSCALE:GREGORIAN
BEGIN:VEVENT
DTSTART:20191207T000000Z
DTEND:20191207T040000Z
X-MICROSOFT-CDO-ALLDAYEVENT:FALSE
SUMMARY:Super Raffle Holiday Party
DESCRIPTION:Super Raffle - Double Elimination - CASH PRIZES\n\nOnly 100 tickets will be sold!!! \n\nChoose your lucky number now     1-99\n\nTicket #100 will be sold at event for a greater chance of winning big $$$
X-ALT-DESC;FMTTYPE=text/html:<span style="font-size:18px\;"><strong>Super Raffle - Double Elimination - CASH PRIZES<br />\nOnly 100 tickets will be sold!!!&nbsp\;<br />\nChoose your lucky number now &gt\;&gt\;&gt\; 1-99<br />\nTicket #100 will be sold at event for a greater chance of winning big $$$</strong></span><br />\n&nbsp\;
LOCATION:The Shores Of Turtle Creek 7908 Winn Road Spring Grove IL
UID:e.2066.3149
SEQUENCE:3
DTSTAMP:20260424T185821Z
URL:https://dev.chainolakeschamber.com/events/details/super-raffle-holiday-party-3149
END:VEVENT

END:VCALENDAR
