BEGIN:VCALENDAR
VERSION:2.0
PRODID:-//ChamberMaster//Event Calendar 2.0//EN
METHOD:PUBLISH
X-PUBLISHED-TTL:P3D
REFRESH-INTERVAL:P3D
CALSCALE:GREGORIAN
BEGIN:VEVENT
DTSTART:20211204T000000Z
DTEND:20211204T040000Z
X-MICROSOFT-CDO-ALLDAYEVENT:FALSE
SUMMARY:Super Raffle Holiday Party
DESCRIPTION:This year's Super Raffle will be at Lucky Bernie's in Spring Grove!\n\nCASH PRIZES - Only 100 tickets will be sold!!! \n\n$100 per ticket - Choose your lucky number now     1-99 \n\nTicket #100 will be sold during the event for a greater chance of winning big $$$\n\n\n\nZoom Watch Party information will be available to registrants prior to the event.
X-ALT-DESC;FMTTYPE=text/html:<span style="font-size:18px\;"><strong>This year&#39\;s Super Raffle will be at Lucky Bernie&#39\;s in Spring Grove!</strong></span><br />\n<strong style="font-size: 18px\;">CASH PRIZES -&nbsp\;Only 100 tickets will be sold!!!&nbsp\;</strong><br />\n<span style="font-size:18px\;"><strong>$100 per ticket - </strong></span><strong style="font-size: 18px\;">Choose your lucky number now &gt\;&gt\;&gt\; 1-99</strong><span style="font-size:18px\;"><strong>&nbsp\;<br />\nTicket #100 will be sold during the event for a greater chance of winning big $$$</strong></span><br />\n<br />\n<b>Zoom Watch Party information will be available to registrants prior to the event.</b><br />\n<br />\n&nbsp\;
LOCATION:Attend in person at Lucky Bernie's- Spring Grove or Zoom Watch Party information will be available to registrants prior to the event.
UID:e.2066.4120
SEQUENCE:3
DTSTAMP:20260423T032806Z
URL:https://dev.chainolakeschamber.com/events/details/super-raffle-holiday-party-12-03-2021-4120
END:VEVENT

END:VCALENDAR
