BEGIN:VCALENDAR
VERSION:2.0
PRODID:-//ChamberMaster//Event Calendar 2.0//EN
METHOD:PUBLISH
X-PUBLISHED-TTL:P3D
REFRESH-INTERVAL:P3D
CALSCALE:GREGORIAN
BEGIN:VEVENT
DTSTART:20220611T170000Z
DTEND:20220611T210000Z
X-MICROSOFT-CDO-ALLDAYEVENT:FALSE
SUMMARY:Summer Tasting Fox Lake Wine Walk
DESCRIPTION:Join us for a walk through Fox Lake to visit wonderful small businesses with friends\, great drinks\, and fun! Professional photographer along the walk for fun candids with your friends! Final stop and afterparty on the water at Fam's on the Chain!\n\nMUST BE 21+. LIMITED TICKETS WILL BE AVAILABLE. TICKETS WILL GO ON SALE APRIL 15TH.\n\nStops include Lakes Realty Group\, Hamsher Lakeside Funeral Home\, Lynn Catherine's\, Diamond Deli/Paradise Jewelry\, Lake Monster Harvesters\, State Bank of the Lakes\, Northern IL Foot & Ankle Specialists\, Pure Bliss Artisan Soap\, International House of Wine & Cheese\, Allendale Association\, Chapel Hill Bodyworks/Renee Ryan Salon & Spa\, and Fam's on the Chain!
X-ALT-DESC;FMTTYPE=text/html:<div class="kvgmc6g5 cxmmr5t8 oygrvhab hcukyx3x c1et5uql" style="overflow-wrap: break-word\; margin: 0px\; font-family: &quot\;Segoe UI Historic&quot\;\, &quot\;Segoe UI&quot\;\, Helvetica\, Arial\, sans-serif\; color: rgb(228\, 230\, 235)\; font-size: 15px\; background-color: rgb(36\, 37\, 38)\;">Join us for a walk through Fox Lake to visit wonderful small businesses with friends\, great drinks\, and fun! Professional photographer along the walk for fun candids with your friends! Final stop and afterparty on the water at Fam&#39\;s on the Chain!</div>\n\n<div class="cxmmr5t8 oygrvhab hcukyx3x c1et5uql o9v6fnle" style="overflow-wrap: break-word\; margin: 0.5em 0px 0px\; font-family: &quot\;Segoe UI Historic&quot\;\, &quot\;Segoe UI&quot\;\, Helvetica\, Arial\, sans-serif\; color: rgb(228\, 230\, 235)\; font-size: 15px\; background-color: rgb(36\, 37\, 38)\;">MUST BE 21+. LIMITED TICKETS WILL BE AVAILABLE. TICKETS WILL GO ON SALE APRIL 15TH.</div>\n\n<div class="cxmmr5t8 oygrvhab hcukyx3x c1et5uql o9v6fnle" style="overflow-wrap: break-word\; margin: 0.5em 0px 0px\; font-family: &quot\;Segoe UI Historic&quot\;\, &quot\;Segoe UI&quot\;\, Helvetica\, Arial\, sans-serif\; color: rgb(228\, 230\, 235)\; font-size: 15px\; background-color: rgb(36\, 37\, 38)\;">Stops include Lakes Realty Group\, Hamsher Lakeside Funeral Home\, Lynn Catherine&#39\;s\, Diamond Deli/Paradise Jewelry\, Lake Monster Harvesters\, State Bank of the Lakes\, Northern IL Foot &amp\; Ankle Specialists\, Pure Bliss Artisan Soap\, International House of Wine &amp\; Cheese\, Allendale Association\, Chapel Hill Bodyworks/Renee Ryan Salon &amp\; Spa\, and Fam&#39\;s on the Chain!</div>\n
LOCATION:5 Nippersink Blvd\, Fox Lake\, IL
UID:e.2066.4530
SEQUENCE:3
DTSTAMP:20260422T172113Z
URL:https://dev.chainolakeschamber.com/events/details/summer-tasting-fox-lake-wine-walk-4530
END:VEVENT

END:VCALENDAR
