BEGIN:VCALENDAR
VERSION:2.0
PRODID:-//ChamberMaster//Event Calendar 2.0//EN
METHOD:PUBLISH
X-PUBLISHED-TTL:P3D
REFRESH-INTERVAL:P3D
CALSCALE:GREGORIAN
BEGIN:VEVENT
DTSTART:20180718T140000Z
DTEND:20180718T063000Z
X-MICROSOFT-CDO-ALLDAYEVENT:FALSE
SUMMARY:Summer Camp with character
DESCRIPTION:July 17th is Behavior Bear\n\nJuly 18th is Warm-Hearted Walrus\n\nJuly 19th is Do'er Duck\n\n\n\nAges 1-5 with an adult from 9-11\n\nAges 6-10 from 11:30-1:30\n\n\n\nListen to a story on the character and talk about what it means to have good character. Then\, bring this character to life on canvas to bring home as a visual reminder and own a masterpiece! We'll also make a paper bag puppet of the character so your child can put on a puppet show and tell you all about the character. \n\n\n\nRegistration is required. Fee is involved. Please visit the Grayslake Park District at https://www.glpd.com/grayslake-park-district-events-calendar/2018-07/
X-ALT-DESC;FMTTYPE=text/html:July 17th is Behavior Bear<br />\nJuly 18th is Warm-Hearted Walrus<br />\nJuly 19th is Do&#39\;er Duck<br />\n<br />\nAges 1-5 with an adult from 9-11<br />\nAges 6-10 from 11:30-1:30<br />\n<br />\nListen to a story on the character and talk about what it means to have good character. Then\, bring this character to life on canvas to bring home as a visual reminder and own a masterpiece! We&#39\;ll also make a paper bag puppet of the character so your child can put on a puppet show and tell you all about the character.&nbsp\;<br />\n<br />\nRegistration is required. Fee is involved. Please visit the Grayslake Park District at&nbsp\;<a href="https://www.glpd.com/grayslake-park-district-events-calendar/2018-07/">https://www.glpd.com/grayslake-park-district-events-calendar/2018-07/</a>
LOCATION:Grayslake Park District 240 Commerce Drive Grayslake\, Illinois 60030
UID:e.2066.1170
SEQUENCE:3
DTSTAMP:20260425T204143Z
URL:https://dev.chainolakeschamber.com/events/details/summer-camp-with-character-07-18-2018-1170
END:VEVENT

END:VCALENDAR
