BEGIN:VCALENDAR
VERSION:2.0
PRODID:-//ChamberMaster//Event Calendar 2.0//EN
METHOD:PUBLISH
X-PUBLISHED-TTL:P3D
REFRESH-INTERVAL:P3D
CALSCALE:GREGORIAN
BEGIN:VEVENT
DTSTART:20230630T233000Z
DTEND:20230701T003000Z
X-MICROSOFT-CDO-ALLDAYEVENT:FALSE
SUMMARY:Fox Lake Summer Art Series
DESCRIPTION:Join the Village of Fox Lake for a summer filled with music and art! The concerts will take place on Fridays at 6:30 p.m. from June to August at the Village?s Community Garden Green located at 17 E School Ct. Fox Lake\, IL.  Bring your lawn chairs\, snacks\, and blankets to watch a live music performance by a wide variety of musicians. \n\nFor questions\, please call the Parks and Recreation Department at (224) 225-1404.
X-ALT-DESC;FMTTYPE=text/html:<p style="box-sizing: border-box\; margin-top: 8px\; margin-block: 8px\; margin-bottom: 1.4em\; border: 0px none\; color: rgb(0\, 0\, 0)\; font-family: Arial\; font-size: 14.4px\;">Join the Village of Fox Lake for a summer filled with music and art! The concerts will take place on Fridays at 6:30 p.m. from June to August at the Village?s Community Garden Green located at 17 E School Ct. Fox Lake\, IL. &nbsp\;Bring your lawn chairs\, snacks\, and blankets to watch a live music performance by a wide variety of musicians.&nbsp\;</p>\n\n<p style="box-sizing: border-box\; margin-top: 8px\; margin-block: 8px\; margin-bottom: 1.4em\; border: 0px none\; color: rgb(0\, 0\, 0)\; font-family: Arial\; font-size: 14.4px\;">For questions\, please call the Parks and Recreation Department at (224) 225-1404.</p>\n
LOCATION:Community Garden Green 17 E School Ct. Fox Lake\, IL
UID:e.2066.5184
SEQUENCE:3
DTSTAMP:20260419T153946Z
URL:https://dev.chainolakeschamber.com/events/details/summer-art-series-06-30-2023-5184
END:VEVENT

END:VCALENDAR
