BEGIN:VCALENDAR
VERSION:2.0
PRODID:-//ChamberMaster//Event Calendar 2.0//EN
METHOD:PUBLISH
X-PUBLISHED-TTL:P3D
REFRESH-INTERVAL:P3D
CALSCALE:GREGORIAN
BEGIN:VEVENT
DTSTART:20211013T140000Z
DTEND:20211013T153000Z
X-MICROSOFT-CDO-ALLDAYEVENT:FALSE
SUMMARY:Strategic Thinking: Tools and Techniques
DESCRIPTION:Your company is facing challenges and opportunities it has never experienced. It needs people at all levels to think more strategically. It needs professionals who think beyond the strict confines of their job description. The future is NOT an extension of the past!
X-ALT-DESC;FMTTYPE=text/html:Your company is facing challenges and opportunities it has never experienced. It needs people at all levels to think more strategically. It needs professionals who think beyond the strict confines of their job description. The future is NOT an extension of the past!
LOCATION:Live Zoom
UID:e.2066.4136
SEQUENCE:3
DTSTAMP:20260423T065324Z
URL:https://dev.chainolakeschamber.com/events/details/strategic-thinking-tools-and-techniques-10-13-2021-4136
END:VEVENT

END:VCALENDAR
