BEGIN:VCALENDAR
VERSION:2.0
PRODID:-//ChamberMaster//Event Calendar 2.0//EN
METHOD:PUBLISH
X-PUBLISHED-TTL:P3D
REFRESH-INTERVAL:P3D
CALSCALE:GREGORIAN
BEGIN:VEVENT
DTSTART:20220216T150000Z
DTEND:20220216T163000Z
X-MICROSOFT-CDO-ALLDAYEVENT:FALSE
SUMMARY:Strategic Thinking: Tools and Techniques
DESCRIPTION:Amazon is getting into every business under the sun. Boomer influence is waning and GenZ / Gen Alpha influence is on the rise. Social media is filled with a mix of truths and lies. The future is NOT an extension of the past! Your company is facing challenges and opportunities it has never experienced. It needs people at all levels to think more strategically. It needs professionals who think beyond the strict confines of their job description.
X-ALT-DESC;FMTTYPE=text/html:Amazon is getting into every business under the sun. Boomer influence is waning and GenZ / Gen Alpha influence is on the rise. Social media is filled with a mix of truths and lies. The future is NOT an extension of the past! Your company is facing challenges and opportunities it has never experienced. It needs people at all levels to think more strategically. It needs professionals who think beyond the strict confines of their job description.
LOCATION:Live Zoom
UID:e.2066.4184
SEQUENCE:3
DTSTAMP:20260423T001727Z
URL:https://dev.chainolakeschamber.com/events/details/strategic-thinking-tools-and-techniques-02-16-2022-4184
END:VEVENT

END:VCALENDAR
