BEGIN:VCALENDAR
VERSION:2.0
PRODID:-//ChamberMaster//Event Calendar 2.0//EN
METHOD:PUBLISH
X-PUBLISHED-TTL:P3D
REFRESH-INTERVAL:P3D
CALSCALE:GREGORIAN
BEGIN:VEVENT
DTSTART:20221210T150000Z
DTEND:20221210T200000Z
X-MICROSOFT-CDO-ALLDAYEVENT:FALSE
SUMMARY:Stellar Results Realty Holiday Open House
DESCRIPTION:Join us for our Holiday Open House!\n\nCookies\, Cocoa & Coffee\n\nWe will be collecting new socks and underwear to help the homeless.
X-ALT-DESC;FMTTYPE=text/html:Join us for our Holiday Open House!<br />\nCookies\, Cocoa &amp\; Coffee<br />\nWe will be collecting new socks and underwear to help the homeless.
LOCATION:9 E. Grand Ave Fox Lake\, IL
UID:e.2066.4891
SEQUENCE:3
DTSTAMP:20260420T021407Z
URL:https://dev.chainolakeschamber.com/events/details/stellar-results-realty-holiday-open-house-4891
END:VEVENT

END:VCALENDAR
