BEGIN:VCALENDAR
VERSION:2.0
PRODID:-//ChamberMaster//Event Calendar 2.0//EN
METHOD:PUBLISH
X-PUBLISHED-TTL:P3D
REFRESH-INTERVAL:P3D
CALSCALE:GREGORIAN
BEGIN:VEVENT
DTSTART;VALUE=DATE:20210917
DTEND;VALUE=DATE:20210918
TRANSP:TRANSPARENT
X-MICROSOFT-CDO-ALLDAYEVENT:TRUE
SUMMARY:Stellar Results Realty Grand Opening - 7 Days of Celebration
DESCRIPTION:7 Days of Celebration\n\nReal Estate - Samuel Stella - Stellar Results Realty\, LLC
X-ALT-DESC;FMTTYPE=text/html:7 Days of Celebration<br />\n<a href="https://www.stellarresultsrealty.com/grand-opening-event">Real Estate - Samuel Stella - Stellar Results Realty\, LLC</a>
LOCATION:9 E Grand Ave Fox Lake
UID:e.2066.4119
SEQUENCE:3
DTSTAMP:20260423T083723Z
URL:https://dev.chainolakeschamber.com/events/details/stellar-results-realty-grand-opening-7-days-of-celebration-4119
END:VEVENT

END:VCALENDAR
