BEGIN:VCALENDAR
VERSION:2.0
PRODID:-//ChamberMaster//Event Calendar 2.0//EN
METHOD:PUBLISH
X-PUBLISHED-TTL:P3D
REFRESH-INTERVAL:P3D
CALSCALE:GREGORIAN
BEGIN:VEVENT
DTSTART:20221213T160000Z
DTEND:20221213T170000Z
X-MICROSOFT-CDO-ALLDAYEVENT:FALSE
SUMMARY:Staying Active During Winter: Tips to Keep Engaged and Moving
DESCRIPTION:During winter\, the cold and snowy weather and the lack of daylight can keep us from engaging in activity\, contributing to worse mental and physical health.
X-ALT-DESC;FMTTYPE=text/html:During winter\, the cold and snowy weather and the lack of daylight can keep us from engaging in activity\, contributing to worse mental and physical health.
LOCATION:Zoom
UID:e.2066.4865
SEQUENCE:3
DTSTAMP:20260420T021401Z
URL:https://dev.chainolakeschamber.com/events/details/staying-active-during-winter-tips-to-keep-engaged-and-moving-4865
END:VEVENT

END:VCALENDAR
