BEGIN:VCALENDAR
VERSION:2.0
PRODID:-//ChamberMaster//Event Calendar 2.0//EN
METHOD:PUBLISH
X-PUBLISHED-TTL:P3D
REFRESH-INTERVAL:P3D
CALSCALE:GREGORIAN
BEGIN:VEVENT
DTSTART:20180407T130000Z
DTEND:20180407T170000Z
X-MICROSOFT-CDO-ALLDAYEVENT:FALSE
SUMMARY:Stateline Comets Youth Football 2018 Registration
DESCRIPTION:Register your\n\n4-6 year olds for flag/ not tackle\n\n1 st and 2 nd grade combined\n\n3 rd and 4 th grade combined\n\n5 th\n\n6 th\n\n7 th\n\n8 th\n\n** ball carrier weight restrictions at each level\n\n\n\n\n\nContact Rick Graves\n\n815-675-2620 \n\nRichard.w.graves@snapon.com
X-ALT-DESC;FMTTYPE=text/html:Register your<br />\n4-6 year olds for flag/ not tackle<br />\n1 st and 2 nd grade combined<br />\n3 rd and 4 th grade combined<br />\n5 th<br />\n6 th<br />\n7 th<br />\n8 th<br />\n** ball carrier weight restrictions at each level<br />\n<br />\n<br />\nContact Rick Graves<br />\n815-675-2620&nbsp\;<br />\nRichard.w.graves@snapon.com<br />\n<br />\n<br />\n&nbsp\;
LOCATION:Cafeteria Spring Grove Grade School 2018 Main St. Spring Grove\, IL
UID:e.2066.936
SEQUENCE:3
DTSTAMP:20260426T013046Z
URL:https://dev.chainolakeschamber.com/events/details/stateline-comets-youth-football-2018-registration-936
END:VEVENT

END:VCALENDAR
