BEGIN:VCALENDAR
VERSION:2.0
PRODID:-//ChamberMaster//Event Calendar 2.0//EN
METHOD:PUBLISH
X-PUBLISHED-TTL:P3D
REFRESH-INTERVAL:P3D
CALSCALE:GREGORIAN
BEGIN:VEVENT
DTSTART:20200427T153000Z
DTEND:20200427T170000Z
X-MICROSOFT-CDO-ALLDAYEVENT:FALSE
SUMMARY:State Senator Craig Wilcox and representatives from the Illinois Retail Merchants Association and Illinois Chamber of Commerce
DESCRIPTION:You are invited to a Zoom webinar. \n\nWhen: Apr 27\, 2020 10:30 AM Central Time (US and Canada)\n\nTopic: Senator Craig Wilcox's  COVID-19 Small Business Assistance Webinar\n\nJoin State Senator Craig Wilcox and representatives from the Illinois Retail Merchants Association and Illinois Chamber of Commerce for a video webinar about the various types of federal and state assistance available to small businesses facing challenges during the COVID-19 pandemic at 10:30 AM on Monday\, April 27.\n\nPanelists:\n\nState Senator Craig Wilcox\, 32th District of Illinois\n\nRob Karr\, President & CEO of the Illinois Retail Merchants Association\n\nKeith Staats\, Executive Director of the Tax Institute at the Illinois Chamber of Commerce\n\nJay Shattuck\, Executive Director of the Employment Law Council at the Illinois Chamber of Commerce
X-ALT-DESC;FMTTYPE=text/html:<strong><span style="font-family:arial\,sans-serif\;"><span style="font-size:12.0pt\;">You are invited to a Zoom webinar. </span></span></strong><br />\n<strong><span style="font-family:arial\,sans-serif\;"><span style="font-size:12.0pt\;">When: Apr 27\, 2020 10:30 AM Central Time (US and Canada)</span></span></strong><br />\n<strong><span style="font-family:arial\,sans-serif\;"><span style="font-size:12.0pt\;">Topic: Senator Craig Wilcox&#39\;s&nbsp\; COVID-19 Small Business Assistance Webinar</span></span></strong><br />\n<strong><span style="font-family:arial\,sans-serif\;"><span style="font-size:12.0pt\;">Join State Senator Craig Wilcox and representatives from the Illinois Retail Merchants Association and Illinois Chamber of Commerce for a video webinar about the various types of federal and state assistance available to small businesses facing challenges during the COVID-19 pandemic at 10:30 AM on Monday\, April 27.</span></span></strong><br />\n<strong><span style="font-family:arial\,sans-serif\;"><span style="font-size:12.0pt\;">Panelists:</span></span></strong><br />\n<strong><span style="font-family:arial\,sans-serif\;"><span style="font-size:12.0pt\;">State Senator Craig Wilcox\,</span></span></strong><span style="font-family:arial\,sans-serif\;"><span style="font-size:12.0pt\;"> 32th District of Illinois</span></span><br />\n<strong><span style="font-family:arial\,sans-serif\;"><span style="font-size:12.0pt\;">Rob Karr\,</span></span></strong><span style="font-family:arial\,sans-serif\;"><span style="font-size:12.0pt\;"> President &amp\; CEO of the Illinois Retail Merchants Association</span></span><br />\n<strong><span style="font-family:arial\,sans-serif\;"><span style="font-size:12.0pt\;">Keith Staats\,</span></span></strong><span style="font-family:arial\,sans-serif\;"><span style="font-size:12.0pt\;"> Executive Director of the Tax Institute at the Illinois Chamber of Commerce</span></span><br />\n<strong><span style="font-family:arial\,sans-serif\;"><span style="font-size:12.0pt\;">Jay Shattuck\,</span></span></strong><span style="font-family:arial\,sans-serif\;"><span style="font-size:12.0pt\;"> Executive Director of the Employment Law Council at the Illinois Chamber of Commerce</span></span><br />\n&nbsp\;
LOCATION:https://us02web.zoom.us/j/89527058320?pwd=bmFSS0RIdVJPZHdoWkxObGpqa1ZyUT09 Password: 428068
UID:e.2066.3392
SEQUENCE:3
DTSTAMP:20260424T143508Z
URL:https://dev.chainolakeschamber.com/events/details/state-senator-craig-wilcox-and-representatives-from-the-illinois-retail-merchants-association-and-illinois-chamber-of-commerce-3392
END:VEVENT

END:VCALENDAR
