BEGIN:VCALENDAR
VERSION:2.0
PRODID:-//ChamberMaster//Event Calendar 2.0//EN
METHOD:PUBLISH
X-PUBLISHED-TTL:P3D
REFRESH-INTERVAL:P3D
CALSCALE:GREGORIAN
BEGIN:VEVENT
DTSTART:20230110T173000Z
DTEND:20230110T190000Z
X-MICROSOFT-CDO-ALLDAYEVENT:FALSE
SUMMARY:State of the Villages
DESCRIPTION:Want to know what's going on in each of the four villages in the Chain O'Lakes Area Chamber of Commerce? Join us for the informative and fun luncheon!\n\n\n\nRSVP by January 3\, 2023
X-ALT-DESC;FMTTYPE=text/html:Want to know what&#39\;s going on in each of the four villages in the Chain O&#39\;Lakes Area Chamber of Commerce? Join us for the informative and fun luncheon!<br />\n<br />\nRSVP by January 3\, 2023
LOCATION:Camp Duncan YMCA 32405 N US Hwy 12 Ingleside\, IL 60041
UID:e.2066.4899
SEQUENCE:3
DTSTAMP:20260420T001902Z
URL:https://dev.chainolakeschamber.com/events/details/state-of-the-villages-4899
END:VEVENT

END:VCALENDAR
