BEGIN:VCALENDAR
VERSION:2.0
PRODID:-//ChamberMaster//Event Calendar 2.0//EN
METHOD:PUBLISH
X-PUBLISHED-TTL:P3D
REFRESH-INTERVAL:P3D
CALSCALE:GREGORIAN
BEGIN:VEVENT
DTSTART:20220903T150000Z
DTEND:20220905T230000Z
X-MICROSOFT-CDO-ALLDAYEVENT:FALSE
SUMMARY:Stade's Shades of Autumn Fall Festival Opening Weekend
DESCRIPTION:Stade's - Shades of Autumn Fall Festival Opening Weekend\n\nFarmtractions Theme Park open 10 am - 6 pm\n\nOver 40 different attractions available for all ages\n\nOpen Saturdays & Sundays in September. \n\nOpen Fridays\, Saturdays\, & Sundays in October
X-ALT-DESC;FMTTYPE=text/html:<div style="border: 0px\; font-variant-numeric: inherit\; font-variant-east-asian: inherit\; font-stretch: inherit\; font-size: 12pt\; line-height: inherit\; font-family: Calibri\, Arial\, Helvetica\, sans-serif\; margin: 0px\; padding: 0px\; vertical-align: baseline\; background-color: rgb(255\, 255\, 255)\;">Stade&#39\;s - Shades of Autumn Fall Festival Opening Weekend</div>\n\n<div style="border: 0px\; font-variant-numeric: inherit\; font-variant-east-asian: inherit\; font-stretch: inherit\; font-size: 12pt\; line-height: inherit\; font-family: Calibri\, Arial\, Helvetica\, sans-serif\; margin: 0px\; padding: 0px\; vertical-align: baseline\; background-color: rgb(255\, 255\, 255)\;">Farmtractions Theme Park open 10 am - 6 pm</div>\n\n<div style="border: 0px\; font-variant-numeric: inherit\; font-variant-east-asian: inherit\; font-stretch: inherit\; font-size: 12pt\; line-height: inherit\; font-family: Calibri\, Arial\, Helvetica\, sans-serif\; margin: 0px\; padding: 0px\; vertical-align: baseline\; background-color: rgb(255\, 255\, 255)\;">Over 40 different attractions available for all ages</div>\n\n<div style="border: 0px\; font-variant-numeric: inherit\; font-variant-east-asian: inherit\; font-stretch: inherit\; font-size: 12pt\; line-height: inherit\; font-family: Calibri\, Arial\, Helvetica\, sans-serif\; margin: 0px\; padding: 0px\; vertical-align: baseline\; background-color: rgb(255\, 255\, 255)\;">Open Saturdays &amp\; Sundays in September.&nbsp\;<br />\nOpen Fridays\, Saturdays\, &amp\; Sundays in October&nbsp\;</div>\n
LOCATION:3709 Miller Rd\, McHenry\, IL 60051
UID:e.2066.4599
SEQUENCE:3
DTSTAMP:20260422T135909Z
URL:https://dev.chainolakeschamber.com/events/details/stade-s-shades-of-autumn-fall-festival-opening-weekend-4599
END:VEVENT

END:VCALENDAR
