BEGIN:VCALENDAR
VERSION:2.0
PRODID:-//ChamberMaster//Event Calendar 2.0//EN
METHOD:PUBLISH
X-PUBLISHED-TTL:P3D
REFRESH-INTERVAL:P3D
CALSCALE:GREGORIAN
BEGIN:VEVENT
DTSTART:20220910T150000Z
DTEND:20220911T220000Z
X-MICROSOFT-CDO-ALLDAYEVENT:FALSE
SUMMARY:Stade's 8th Annual Arts & Crafts on the Farm Show
DESCRIPTION:Stade's 8th Annual Arts & Crafts on the Farm Show\n\nOpen Saturday 10 am - 5 pm\, Sunday 10 am - 4 pm\n\nOver 100 talented artists
X-ALT-DESC;FMTTYPE=text/html:<div style="border: 0px\; font-variant-numeric: inherit\; font-variant-east-asian: inherit\; font-stretch: inherit\; font-size: 12pt\; line-height: inherit\; font-family: Calibri\, Arial\, Helvetica\, sans-serif\; margin: 0px\; padding: 0px\; vertical-align: baseline\; background-color: rgb(255\, 255\, 255)\;">Stade&#39\;s 8<span style="border: 0px\; font: inherit\; margin: 0px\; padding: 0px\; vertical-align: baseline\; color: inherit\;"><sup>th</sup>&nbsp\;Annual Arts &amp\; Crafts on the Farm Show</span></div>\n\n<div style="border: 0px\; font-variant-numeric: inherit\; font-variant-east-asian: inherit\; font-stretch: inherit\; font-size: 12pt\; line-height: inherit\; font-family: Calibri\, Arial\, Helvetica\, sans-serif\; margin: 0px\; padding: 0px\; vertical-align: baseline\; background-color: rgb(255\, 255\, 255)\;">Open Saturday 10 am - 5 pm\, Sunday 10 am - 4 pm</div>\n\n<div style="border: 0px\; font-variant-numeric: inherit\; font-variant-east-asian: inherit\; font-stretch: inherit\; font-size: 12pt\; line-height: inherit\; font-family: Calibri\, Arial\, Helvetica\, sans-serif\; margin: 0px\; padding: 0px\; vertical-align: baseline\; background-color: rgb(255\, 255\, 255)\;">Over 100 talented artists&nbsp\;</div>\n
LOCATION:3709 Miller Road McHenry\, IL 60051
UID:e.2066.4600
SEQUENCE:3
DTSTAMP:20260422T135722Z
URL:https://dev.chainolakeschamber.com/events/details/stade-s-8th-annual-arts-crafts-on-the-farm-show-4600
END:VEVENT

END:VCALENDAR
