BEGIN:VCALENDAR
VERSION:2.0
PRODID:-//ChamberMaster//Event Calendar 2.0//EN
METHOD:PUBLISH
X-PUBLISHED-TTL:P3D
REFRESH-INTERVAL:P3D
CALSCALE:GREGORIAN
BEGIN:VEVENT
DTSTART:20210317T160000Z
DTEND:20210317T180000Z
X-MICROSOFT-CDO-ALLDAYEVENT:FALSE
SUMMARY:St. Patrick's Day Dinner Pickup
DESCRIPTION:The meal includes corned beef\, cabbage\, red potatoes\, steamed carrots\, garden salad with thousand island dressing\, mustard\, rye bread\, and white cake.\n\n\n\nEach meal is $12\, and needs to be preordered by Wednesday\, March 10\, 2021. Registration forms and payments can be mailed to Village of Fox Lake 66 Thillen Dr Fox Lake IL 60020 or dropped off at Village Hall.
X-ALT-DESC;FMTTYPE=text/html:<span class="d2edcug0 hpfvmrgz qv66sw1b c1et5uql rrkovp55 a8c37x1j keod5gw0 nxhoafnm aigsh9s9 d3f4x2em fe6kdd0r mau55g9w c8b282yb iv3no6db jq4qci2q a3bd9o3v knj5qynh oo9gr5id" dir="auto">The meal includes corned beef\, cabbage\, red potatoes\, steamed carrots\, garden salad with thousand island dressing\, mustard\, rye bread\, and white cake.<br />\n<br />\nEach meal is $12\, and needs to be preordered by <strong>Wednesday\, March 10</strong>\, 2021. Registration forms and payments can be mailed to Village of Fox Lake 66 Thillen Dr Fox Lake IL 60020 or dropped off at Village Hall.</span>
LOCATION:Maravela's Banquet Hall
UID:e.2066.3861
SEQUENCE:3
DTSTAMP:20260423T174159Z
URL:https://dev.chainolakeschamber.com/events/details/st-patrick-s-day-dinner-pickup-3861
END:VEVENT

END:VCALENDAR
