BEGIN:VCALENDAR
VERSION:2.0
PRODID:-//ChamberMaster//Event Calendar 2.0//EN
METHOD:PUBLISH
X-PUBLISHED-TTL:P3D
REFRESH-INTERVAL:P3D
CALSCALE:GREGORIAN
BEGIN:VEVENT
DTSTART:20230816T140000Z
DTEND:20230816T163000Z
X-MICROSOFT-CDO-ALLDAYEVENT:FALSE
SUMMARY:St. Bede School Supply Drop Off
DESCRIPTION:School Supplies Drop Off\n\nWe can't wait to see your smiling faces!
X-ALT-DESC;FMTTYPE=text/html:School Supplies Drop Off<br />\nWe can&#39\;t wait to see your smiling faces!
LOCATION:St. Bede Catholic School Ingleside
UID:e.2066.5392
SEQUENCE:3
DTSTAMP:20260419T121136Z
URL:https://dev.chainolakeschamber.com/events/details/st-bede-school-supply-drop-off-5392
END:VEVENT

END:VCALENDAR
