BEGIN:VCALENDAR
VERSION:2.0
PRODID:-//ChamberMaster//Event Calendar 2.0//EN
METHOD:PUBLISH
X-PUBLISHED-TTL:P3D
REFRESH-INTERVAL:P3D
CALSCALE:GREGORIAN
BEGIN:VEVENT
DTSTART:20200126T150000Z
DTEND:20200126T190000Z
X-MICROSOFT-CDO-ALLDAYEVENT:FALSE
SUMMARY:St Bede School Open House
DESCRIPTION:Let us show you what makes St. Bede School the perfect learning environment for your child!  Join us on Sunday\, January 26th from 9:00 a.m. to 1:00 p.m. and you could be one of the 2 lucky winners of a $1\,000.00 tuition credit!  Our Open House will include\; raffles\, giveaways\, snacks\, a book fair & a fun filled Scavenger Hunt.  St. Bede School is a recipient of the National Blue Ribbon for academic excellence.  Join us to see all that we have to offer!
X-ALT-DESC;FMTTYPE=text/html:Let us show you what makes St. Bede School the perfect learning environment for your child!&nbsp\; Join us on Sunday\, January 26<sup>th</sup> from 9:00 a.m. to 1:00 p.m. and you could be one of the 2 lucky winners of a $1\,000.00 tuition credit!&nbsp\; Our Open House will include\; raffles\, giveaways\, snacks\, a book fair &amp\; a fun filled Scavenger Hunt.&nbsp\; St. Bede School is a recipient of the National Blue Ribbon for academic excellence.&nbsp\; Join us to see all that we have to offer!&nbsp\;<br />\n&nbsp\;
LOCATION:St. Bede School\, 36339 N. Wilson Rd.\, Ingleside\, IL 60041 Corner of Rt 59 & Wilson Rd Ingleside
UID:e.2066.3177
SEQUENCE:3
DTSTAMP:20260424T185802Z
URL:https://dev.chainolakeschamber.com/events/details/st-bede-school-open-house-3177
END:VEVENT

END:VCALENDAR
