BEGIN:VCALENDAR
VERSION:2.0
PRODID:-//ChamberMaster//Event Calendar 2.0//EN
METHOD:PUBLISH
X-PUBLISHED-TTL:P3D
REFRESH-INTERVAL:P3D
CALSCALE:GREGORIAN
BEGIN:VEVENT
DTSTART:20230305T181500Z
DTEND:20230305T200000Z
X-MICROSOFT-CDO-ALLDAYEVENT:FALSE
SUMMARY:St. Bede School Mother & Son Bowling
DESCRIPTION:All St. Bede Boys in Preschool - 8th Grade are invited!\n\nBring your Mom or Grandma\, Aunt\, etc for a special and fun-filled afternoon!
X-ALT-DESC;FMTTYPE=text/html:All St. Bede Boys in Preschool - 8th Grade are invited!<br />\nBring your Mom or Grandma\, Aunt\, etc for a special and fun-filled afternoon!&nbsp\;&nbsp\;&nbsp\;&nbsp\;
LOCATION:Raymond's Bowl & Entertainment Center 3960 N. Johnsburg Road Johnsburg\, IL 60051
UID:e.2066.5002
SEQUENCE:3
DTSTAMP:20260419T223059Z
URL:https://dev.chainolakeschamber.com/events/details/st-bede-school-mother-son-bowling-5002
END:VEVENT

END:VCALENDAR
