BEGIN:VCALENDAR
VERSION:2.0
PRODID:-//ChamberMaster//Event Calendar 2.0//EN
METHOD:PUBLISH
X-PUBLISHED-TTL:P3D
REFRESH-INTERVAL:P3D
CALSCALE:GREGORIAN
BEGIN:VEVENT
DTSTART:20210412T140000Z
DTEND:20210416T220000Z
X-MICROSOFT-CDO-ALLDAYEVENT:FALSE
SUMMARY:St. Bede School Enrolling for 2021/2022 School Year
DESCRIPTION:
X-ALT-DESC;FMTTYPE=text/html:
LOCATION:For more information Call St. Bede Catholic School at 847-587-5541 or email mtellez@stbedeschool.com
UID:e.2066.3930
SEQUENCE:3
DTSTAMP:20260423T160207Z
URL:https://dev.chainolakeschamber.com/events/details/st-bede-school-enrolling-for-2021-2022-school-year-3930
END:VEVENT

END:VCALENDAR
