BEGIN:VCALENDAR
VERSION:2.0
PRODID:-//ChamberMaster//Event Calendar 2.0//EN
METHOD:PUBLISH
X-PUBLISHED-TTL:P3D
REFRESH-INTERVAL:P3D
CALSCALE:GREGORIAN
BEGIN:VEVENT
DTSTART:20230806T180000Z
DTEND:20230806T190000Z
X-MICROSOFT-CDO-ALLDAYEVENT:FALSE
SUMMARY:St. Bede's Queen of Hearts
DESCRIPTION:Help support our Queen of Hearts 50/50 Raffle Fundraiser by purchasing or selling tickets. Share with all your friends and family! Tickets can be picked up at the Parish office and must be turned in on or before August 6th at the Parish picnic by 1:00 pm.
X-ALT-DESC;FMTTYPE=text/html:<span style="color: rgb(5\, 5\, 5)\; font-family: &quot\;Segoe UI Historic&quot\;\, &quot\;Segoe UI&quot\;\, Helvetica\, Arial\, sans-serif\; font-size: 15px\;">Help support our Queen of Hearts 50/50 Raffle Fundraiser by purchasing or selling tickets. Share with all your friends and family! Tickets can be picked up at the Parish office and must be turned in on or before August 6th at the Parish picnic by 1:00 pm.</span>
LOCATION:St. Bede's School 400 Williams Street Antioch\, IL
UID:e.2066.5361
SEQUENCE:3
DTSTAMP:20260419T121335Z
URL:https://dev.chainolakeschamber.com/events/details/st-bede-s-queen-of-hearts-5361
END:VEVENT

END:VCALENDAR
