BEGIN:VCALENDAR
VERSION:2.0
PRODID:-//ChamberMaster//Event Calendar 2.0//EN
METHOD:PUBLISH
X-PUBLISHED-TTL:P3D
REFRESH-INTERVAL:P3D
CALSCALE:GREGORIAN
BEGIN:VEVENT
DTSTART:20221112T150000Z
DTEND:20221112T210000Z
X-MICROSOFT-CDO-ALLDAYEVENT:FALSE
SUMMARY:St. Bede's Holiday Bazaar!
DESCRIPTION:Please join us for a fun day and get into the holiday spirit!\n\n\n\nThere will be many crafters and vendors you know and love\, and a few new ones!\n\n*Famous Bake Sale\n\n*Raffle Tables\n\n*Concessions\n\n\n\nAll proceeds from this show benefit the St. Bede Parent Association\n\nHandicap accessible and additional parking is available at Gavin School.
X-ALT-DESC;FMTTYPE=text/html:Please join us for a fun day and get into the holiday spirit!<br />\n<br />\nThere will be many crafters and vendors you know and love\, and a few new ones!<br />\n*Famous Bake Sale<br />\n*Raffle Tables<br />\n*Concessions<br />\n<br />\nAll proceeds from this show benefit the St. Bede Parent Association<br />\nHandicap accessible and additional parking is available at Gavin School.
LOCATION:36399 N. Wilson Rd Ingleside\, IL 60041
UID:e.2066.4870
SEQUENCE:3
DTSTAMP:20260422T092323Z
URL:https://dev.chainolakeschamber.com/events/details/st-bede-s-holiday-bazaar-4870
END:VEVENT

END:VCALENDAR
