BEGIN:VCALENDAR
VERSION:2.0
PRODID:-//ChamberMaster//Event Calendar 2.0//EN
METHOD:PUBLISH
X-PUBLISHED-TTL:P3D
REFRESH-INTERVAL:P3D
CALSCALE:GREGORIAN
BEGIN:VEVENT
DTSTART:20191116T150000Z
DTEND:20191116T210000Z
X-MICROSOFT-CDO-ALLDAYEVENT:FALSE
SUMMARY:St Bede Holiday Bazaar
DESCRIPTION:Please join us as we kick off the holiday shopping season! We have over 85 extremely talented crafters and vendors\, an amazing bake sale\, concessions and we are a free admission\, fully handicap accessible event!
X-ALT-DESC;FMTTYPE=text/html:<span style="color:#1D2129\;"><span style="font-family:helvetica\,sans-serif\;"><span style="font-size:10.5pt\;">Please join us as we kick off the holiday shopping season! We have over 85 extremely talented crafters and vendors\, an amazing bake sale\, concessions and we are a free admission\, fully handicap accessible event! </span></span></span>
LOCATION:St. Bede School\, 36339 N. Wilson Rd.\, Ingleside\, IL 60041
UID:e.2066.3158
SEQUENCE:3
DTSTAMP:20260424T214030Z
URL:https://dev.chainolakeschamber.com/events/details/st-bede-holiday-bazaar-3158
END:VEVENT

END:VCALENDAR
