BEGIN:VCALENDAR
VERSION:2.0
PRODID:-//ChamberMaster//Event Calendar 2.0//EN
METHOD:PUBLISH
X-PUBLISHED-TTL:P3D
REFRESH-INTERVAL:P3D
CALSCALE:GREGORIAN
BEGIN:VEVENT
DTSTART:20191116T000000Z
DTEND:20191116T023000Z
X-MICROSOFT-CDO-ALLDAYEVENT:FALSE
SUMMARY:St Bede Game Night
DESCRIPTION:Join us for a fun evening of playing not your average card or board games by Gamewright!   Great opportunity to Demo unique family games.  All are welcome\, bring your friends. Games will be available for sale\, no pressure to buy.
X-ALT-DESC;FMTTYPE=text/html:<span style="color:#1D2129\;"><span style="font-family:helvetica\,sans-serif\;"><span style="font-size:10.5pt\;">Join us for a fun evening of playing not your average card or board games by Gamewright! &nbsp\;&nbsp\;Great opportunity to Demo unique family games.&nbsp\; All are welcome\, bring your friends. Games will be available for sale\, no pressure to buy.</span></span></span><br />\n&nbsp\;
LOCATION:St. Bede School Library Entrance through the side door nearest the church.
UID:e.2066.3157
SEQUENCE:3
DTSTAMP:20260424T202644Z
URL:https://dev.chainolakeschamber.com/events/details/st-bede-game-night-3157
END:VEVENT

END:VCALENDAR
