BEGIN:VCALENDAR
VERSION:2.0
PRODID:-//ChamberMaster//Event Calendar 2.0//EN
METHOD:PUBLISH
X-PUBLISHED-TTL:P3D
REFRESH-INTERVAL:P3D
CALSCALE:GREGORIAN
BEGIN:VEVENT
DTSTART:20210326T140000Z
DTEND:20210327T200000Z
X-MICROSOFT-CDO-ALLDAYEVENT:FALSE
SUMMARY:Spring Open House
DESCRIPTION:Join us for our Spring Open House!!! \n\nSpring Stack Up Sale 03.26.21 - 03.27.21: 10% off $25 or more\, 15% off $50 or more\, 20% off $75 or more\, 25% off $100 or more. \n\n*$5 Friday not included in Stack Up Sale* \n\nSaturday Only: Flower Bar! Come in and pick your favorite flowers and Jen will help you make your own bouquet!
X-ALT-DESC;FMTTYPE=text/html:<span style="color:#000000"><span style="font-size:15px">Join us for our Spring Open House!!!&nbsp\;</span><br />\n<span style="font-size:15px">Spring Stack Up Sale 03.26.21 - 03.27.21: 10% off $25 or more\, 15% off $50 or more\, 20% off $75 or more\, 25% off $100 or more.&nbsp\;</span><br />\n<span style="font-size:15px">*$5 Friday not included in Stack Up Sale*&nbsp\;</span><br />\n<span style="font-size:15px">Saturday Only: Flower Bar! Come in and pick your favorite flowers and Jen will help you make your own bouquet!</span></span>
LOCATION:jh Events and Flowers 3603 Municipal Dr. McHenry\, IL 60050
UID:e.2066.3886
SEQUENCE:3
DTSTAMP:20260423T174501Z
URL:https://dev.chainolakeschamber.com/events/details/spring-open-house-3886
END:VEVENT

END:VCALENDAR
