BEGIN:VCALENDAR
VERSION:2.0
PRODID:-//ChamberMaster//Event Calendar 2.0//EN
METHOD:PUBLISH
X-PUBLISHED-TTL:P3D
REFRESH-INTERVAL:P3D
CALSCALE:GREGORIAN
BEGIN:VEVENT
DTSTART:20230520T140000Z
DTEND:20230520T180000Z
X-MICROSOFT-CDO-ALLDAYEVENT:FALSE
SUMMARY:Spring Grove Recycling Event
DESCRIPTION:The Village of Spring Grove has set up multiple recycling events throughout 2023\, our next one will be Saturday\, May 20 at the Village of Spring Grove Municipal Centre in conjunction with our first Farmers Market of the Season.\n\n \n\nIt is estimated that 85% of all clothing and textiles ends up in landfills in the U.S. today. With the goal of increasing recycling in mind\, Helping Hands Recycling collects unwanted textiles in an attempt to divert millions of pounds of clothing from landfills. They will collect nearly everything you want to get rid of\, click the flyer for acceptable items.
X-ALT-DESC;FMTTYPE=text/html:<p style="margin: 0px\; padding: 0px\;"><span style="border: 0px\; font: inherit\; margin: 0px\; padding: 0px\; vertical-align: baseline\; color: rgb(107\, 107\, 107) !important\;">The Village of Spring Grove has set up multiple recycling events throughout 2023\, our next one will be Saturday\, May 20 at the&nbsp\;</span><a data-auth="NotApplicable" data-linkindex="7" data-safelink="true" href="https://r20.rs6.net/tn.jsp?f=001KQmz1M5OBi37Gr4OVE_-c1XhcWvQvxNV_nZXAHh_h5AA8VPUaNhYGebGdiNLDzNOgkO6RC0nIfbqxB4KpRuUa5vnL_t8Bg9Wu-4HowslwJ0lhWK6sAPuQkYafMAn2PK6SmKvHsp0UZhrOGqAZGkANRtm1wkg-VcDSsy0oB9PHGc=&amp\;c=1LDSeLXL05fxPG8N-Jj24wihkZn7ixs1Zhd7oWmblqoJGpbCNu689g==&amp\;ch=bC5yQs4AEwh2cswA590NHkBSLNl343Ndp4qhmuNna02bK2swhh5xvA==" rel="noopener noreferrer" style="border: 0px\; font-style: inherit\; font-variant: inherit\; font-stretch: inherit\; font-size: inherit\; line-height: inherit\; font-family: inherit\; font-optical-sizing: inherit\; font-kerning: inherit\; font-feature-settings: inherit\; font-variation-settings: inherit\; margin: 0px\; padding: 0px\; vertical-align: baseline\; color: rgb(107\, 107\, 107) !important\;" target="_blank">Village of Spring Grove Municipal Centre</a><span style="border: 0px\; font: inherit\; margin: 0px\; padding: 0px\; vertical-align: baseline\; color: rgb(107\, 107\, 107) !important\;">&nbsp\;in conjunction with our first Farmers Market of the Season.</span></p>\n\n<p style="margin: 0px\; padding: 0px\;">&nbsp\;</p>\n\n<p style="margin: 0px\; padding: 0px\;"><span style="border: 0px\; font: inherit\; margin: 0px\; padding: 0px\; vertical-align: baseline\; color: rgb(107\, 107\, 107) !important\;">It is estimated that 85% of all clothing and textiles ends up in landfills in the U.S. today. With the goal of increasing recycling in mind\,&nbsp\;</span><a data-auth="NotApplicable" data-linkindex="8" data-safelink="true" href="https://r20.rs6.net/tn.jsp?f=001KQmz1M5OBi37Gr4OVE_-c1XhcWvQvxNV_nZXAHh_h5AA8VPUaNhYGebGdiNLDzNO5CoyfmV37VkCdNIsPcWHot01cob2f4PkPrfNMnVlnanJOCz4aXqOUAEbKN1PJDUU8r02mDxrNBASqTNN4DKa5VWs9rFBxxn7&amp\;c=1LDSeLXL05fxPG8N-Jj24wihkZn7ixs1Zhd7oWmblqoJGpbCNu689g==&amp\;ch=bC5yQs4AEwh2cswA590NHkBSLNl343Ndp4qhmuNna02bK2swhh5xvA==" rel="noopener noreferrer" style="border: 0px\; font-style: inherit\; font-variant: inherit\; font-stretch: inherit\; font-size: inherit\; line-height: inherit\; font-family: inherit\; font-optical-sizing: inherit\; font-kerning: inherit\; font-feature-settings: inherit\; font-variation-settings: inherit\; margin: 0px\; padding: 0px\; vertical-align: baseline\; color: rgb(107\, 107\, 107) !important\;" target="_blank">Helping Hands Recycling</a><span style="border: 0px\; font: inherit\; margin: 0px\; padding: 0px\; vertical-align: baseline\; color: rgb(107\, 107\, 107) !important\;">&nbsp\;collects unwanted textiles in an attempt to divert millions of pounds of clothing from landfills. They will collect nearly everything you want to get rid of\, click the flyer for acceptable items.</span></p>\n\n<p style="margin: 0px\; padding: 0px\;">&nbsp\;</p>\n
LOCATION:Village of Spring Grove Municipal Centre
UID:e.2066.5118
SEQUENCE:3
DTSTAMP:20260419T171415Z
URL:https://dev.chainolakeschamber.com/events/details/spring-grove-recycling-event-5118
END:VEVENT

END:VCALENDAR
