BEGIN:VCALENDAR
VERSION:2.0
PRODID:-//ChamberMaster//Event Calendar 2.0//EN
METHOD:PUBLISH
X-PUBLISHED-TTL:P3D
REFRESH-INTERVAL:P3D
CALSCALE:GREGORIAN
BEGIN:VEVENT
DTSTART:20231007T190000Z
DTEND:20231007T210000Z
X-MICROSOFT-CDO-ALLDAYEVENT:FALSE
SUMMARY:Spring Grove Open House with Stellar Results Realty
DESCRIPTION:Join Stellar Results Realty for an Open House at this amazing Spring Grove property!
X-ALT-DESC;FMTTYPE=text/html:Join Stellar Results Realty for an Open House at this amazing Spring Grove property!
LOCATION:1240 N. Forest Ave. Spring Grove IL 60081
UID:e.2066.5675
SEQUENCE:3
DTSTAMP:20260419T124705Z
URL:https://dev.chainolakeschamber.com/events/details/spring-grove-open-house-with-stellar-results-realty-5675
END:VEVENT

END:VCALENDAR
