BEGIN:VCALENDAR
VERSION:2.0
PRODID:-//ChamberMaster//Event Calendar 2.0//EN
METHOD:PUBLISH
X-PUBLISHED-TTL:P3D
REFRESH-INTERVAL:P3D
CALSCALE:GREGORIAN
BEGIN:VEVENT
DTSTART:20230602T210000Z
DTEND:20230603T020000Z
X-MICROSOFT-CDO-ALLDAYEVENT:FALSE
SUMMARY:Spring Grove Kick Off to Summer Party
DESCRIPTION:Kick off summer with this FREE party at Horse Fair Park\, Spring Grove!\n\nActivities include live music\, food trucks\, beer truck\, kickball tournament (register you team)\, bounce houses\, games and touch a truck!
X-ALT-DESC;FMTTYPE=text/html:Kick off summer with this FREE party at Horse Fair Park\, Spring Grove!<br />\nActivities include live music\, food trucks\, beer truck\, kickball tournament (register you team)\, bounce houses\, games and touch a truck!
LOCATION:Hair Fair Park Spring Grove IL
UID:e.2066.5221
SEQUENCE:3
DTSTAMP:20260419T172038Z
URL:https://dev.chainolakeschamber.com/events/details/spring-grove-kick-off-to-summer-party-5221
END:VEVENT

END:VCALENDAR
