BEGIN:VCALENDAR
VERSION:2.0
PRODID:-//ChamberMaster//Event Calendar 2.0//EN
METHOD:PUBLISH
X-PUBLISHED-TTL:P3D
REFRESH-INTERVAL:P3D
CALSCALE:GREGORIAN
BEGIN:VEVENT
DTSTART:20180408T180000Z
DTEND:20180408T210000Z
X-MICROSOFT-CDO-ALLDAYEVENT:FALSE
SUMMARY:Spring Grove Firefighter Fundraiser Chili Cook off
DESCRIPTION:Chili Cook-off\n\nSo you think you have the best chili around?\n\nEnter our cook-off and help a great cause!\n\nOlive Black is sponsoring a fundraiser for Ryan Nelson.  Ryan\, a Spring Grove Firefighter/ EMT\, is battling Hodgkin Lymphoma and funds will be used to help him cover the expenses that his insurance does not cover.
X-ALT-DESC;FMTTYPE=text/html:<strong><span style="letter-spacing:3.0pt\;"><span style="color:#4F81BD\;"><span style="font-family:cambria\,serif\;"><span style="font-size:48.0pt\;">Chili Cook-off</span></span></span></span></strong><br />\n<strong><span style="color:#548DD4\;"><span style="font-size:20.0pt\;">So you think you have the best chili around?</span></span></strong><br />\n<strong><span style="color:#548DD4\;"><span style="font-size:20.0pt\;">Enter our cook-off and help a great cause!</span></span></strong><br />\n<span style="color:#365F91\;"><span style="font-family:cambria\,serif\;"><span style="font-size:14.0pt\;">Olive Black is sponsoring a fundraiser for </span></span></span><strong><span style="color:red\;"><span style="font-family:cambria\,serif\;"><span style="font-size:14.0pt\;">Ryan Nelson</span></span></span></strong><span style="color:#365F91\;"><span style="font-family:cambria\,serif\;"><span style="font-size:14.0pt\;">.&nbsp\; Ryan\, a </span></span></span><span style="background:white\;"><span style="color:#365F91\;"><span style="font-family:cambria\,serif\;"><span style="font-size:14.0pt\;">Spring Grove Firefighter/ EMT\, is battling Hodgkin Lymphoma </span></span></span></span><span style="color:#365F91\;"><span style="font-family:cambria\,serif\;"><span style="font-size:14.0pt\;">and funds will be used to help him cover the expenses that his insurance does not cover.</span></span></span><br />\n&nbsp\;
LOCATION:Olive Black 5607 Broadway Richmond IL
UID:e.2066.939
SEQUENCE:3
DTSTAMP:20260426T013018Z
URL:https://dev.chainolakeschamber.com/events/details/spring-grove-firefighter-fundraiser-chili-cook-off-939
END:VEVENT

END:VCALENDAR
