BEGIN:VCALENDAR
VERSION:2.0
PRODID:-//ChamberMaster//Event Calendar 2.0//EN
METHOD:PUBLISH
X-PUBLISHED-TTL:P3D
REFRESH-INTERVAL:P3D
CALSCALE:GREGORIAN
BEGIN:VEVENT
DTSTART:20230628T183000Z
DTEND:20230628T233000Z
X-MICROSOFT-CDO-ALLDAYEVENT:FALSE
SUMMARY:Spring Grove Fire Department Community Blood Drive
DESCRIPTION:Spring Grove Fire Department is hosting a Community Blood Drive June 28\, from 1:30 - 6:30 p.m. at the Spring Grove Fire Department located at 8214 Richardson Road in the Blood Drive Bus. Schedule your preferred appointment time by visiting the versiti.org/IL website or download the Versiti Donor App on your phone. Click here for the flyer.\n\nDonate blood and enter for a chance to win a motorcycle!
X-ALT-DESC;FMTTYPE=text/html:<h3 align="left" style="margin: 0px\; font-family: Arial\, Verdana\, Helvetica\, sans-serif\; background-color: rgb(255\, 255\, 255)\; font-size: 16px\; color: rgb(125\, 103\, 169) !important\;"><span style="border: 0px\; font-style: inherit\; font-variant: inherit\; font-weight: normal\; font-stretch: inherit\; font-size: 12px\; line-height: inherit\; font-family: inherit\; font-optical-sizing: inherit\; font-kerning: inherit\; font-feature-settings: inherit\; font-variation-settings: inherit\; margin: 0px\; padding: 0px\; vertical-align: baseline\; color: rgb(77\, 77\, 77) !important\;">Spring Grove Fire Department is hosting a Community Blood Drive June 28\, from 1:30 - 6:30 p.m. at the Spring Grove Fire Department located at&nbsp\;</span><a data-auth="NotApplicable" data-linkindex="8" href="https://r20.rs6.net/tn.jsp?f=0015SFNp5vkAGWgGlmoQFaFM8I4qDh8EMA--BnDoBo8We4NXvR08XWwW2JuXuLZVxeBsRo7Qh2b0QmTyMj8o8mA_ndM80N7_Ehsab3ZEVq39Rqse6_Zx0372C71DfwbC6urQcvYpLdRu7heFCZF8xDDDcTJCUkQ-7lzm3i6ocWlCxk=&amp\;c=-MZkBE0x3TK-8FmVGhtby3GMhg_jp_djImvJfL8uIp4XoFk2D5TM-Q==&amp\;ch=IBI61H3J97v2uIoDLdlQNZt6mjB8nUWNBCI-zZCIhN4l_i9DJRVoJA==" rel="noopener noreferrer" style="border: 0px\; font-style: inherit\; font-variant: inherit\; font-weight: normal\; font-stretch: inherit\; font-size: 12px\; line-height: inherit\; font-family: inherit\; font-optical-sizing: inherit\; font-kerning: inherit\; font-feature-settings: inherit\; font-variation-settings: inherit\; margin: 0px\; padding: 0px\; vertical-align: baseline\; color: rgb(77\, 77\, 77) !important\;" target="_blank">8214 Richardson Road</a><span style="border: 0px\; font-style: inherit\; font-variant: inherit\; font-weight: normal\; font-stretch: inherit\; font-size: 12px\; line-height: inherit\; font-family: inherit\; font-optical-sizing: inherit\; font-kerning: inherit\; font-feature-settings: inherit\; font-variation-settings: inherit\; margin: 0px\; padding: 0px\; vertical-align: baseline\; color: rgb(77\, 77\, 77) !important\;">&nbsp\;in the Blood Drive Bus. Schedule your preferred appointment time by visiting the&nbsp\;</span><a data-auth="NotApplicable" data-linkindex="9" href="https://r20.rs6.net/tn.jsp?f=0015SFNp5vkAGWgGlmoQFaFM8I4qDh8EMA--BnDoBo8We4NXvR08XWwW2JuXuLZVxeBRMpt7Kk9BTVCA1DXyeDU0KH56JDzZ4VDU2XyvM0VZzy1Z1hLR1UTvlnXikHDFSKQy-paxmu9N0wdPck79g6Xf9rghJldASZ2C-zAJjS6arFMbi84pBG6L7ACWXPqteewqkwkd1ZOwpQ=&amp\;c=-MZkBE0x3TK-8FmVGhtby3GMhg_jp_djImvJfL8uIp4XoFk2D5TM-Q==&amp\;ch=IBI61H3J97v2uIoDLdlQNZt6mjB8nUWNBCI-zZCIhN4l_i9DJRVoJA==" rel="noopener noreferrer" style="border: 0px\; font-style: inherit\; font-variant: inherit\; font-weight: normal\; font-stretch: inherit\; font-size: 12px\; line-height: inherit\; font-family: inherit\; font-optical-sizing: inherit\; font-kerning: inherit\; font-feature-settings: inherit\; font-variation-settings: inherit\; margin: 0px\; padding: 0px\; vertical-align: baseline\; color: rgb(77\, 77\, 77) !important\;" target="_blank">versiti.org/IL</a><span style="border: 0px\; font-style: inherit\; font-variant: inherit\; font-weight: normal\; font-stretch: inherit\; font-size: 12px\; line-height: inherit\; font-family: inherit\; font-optical-sizing: inherit\; font-kerning: inherit\; font-feature-settings: inherit\; font-variation-settings: inherit\; margin: 0px\; padding: 0px\; vertical-align: baseline\; color: rgb(77\, 77\, 77) !important\;">&nbsp\;website or download the Versiti Donor App on your phone. Click&nbsp\;</span><a data-auth="NotApplicable" data-linkindex="10" href="https://r20.rs6.net/tn.jsp?f=0015SFNp5vkAGWgGlmoQFaFM8I4qDh8EMA--BnDoBo8We4NXvR08XWwWxZed_1L_C4nsRA92EUVxVV4asPUQfk_XkL2-D86ec-LRK8LZVhhbPfDhiL185gM5H3ndetegx4CLURoKS1DWDcrXnFozXeselbY6nz4meN6WdIbQaM3-Q123aUiNcqxBP96k-NqUb0qFShviznIAitOpnaKOsen3ePCJBBHS82PiyNwKdPMfP4jDeCjNkBqyA==&amp\;c=-MZkBE0x3TK-8FmVGhtby3GMhg_jp_djImvJfL8uIp4XoFk2D5TM-Q==&amp\;ch=IBI61H3J97v2uIoDLdlQNZt6mjB8nUWNBCI-zZCIhN4l_i9DJRVoJA==" rel="noopener noreferrer" style="border: 0px\; font-style: inherit\; font-variant: inherit\; font-weight: normal\; font-stretch: inherit\; font-size: 12px\; line-height: inherit\; font-family: inherit\; font-optical-sizing: inherit\; font-kerning: inherit\; font-feature-settings: inherit\; font-variation-settings: inherit\; margin: 0px\; padding: 0px\; vertical-align: baseline\; color: rgb(77\, 77\, 77) !important\;" target="_blank">here&nbsp\;</a><span style="border: 0px\; font-style: inherit\; font-variant: inherit\; font-weight: normal\; font-stretch: inherit\; font-size: 12px\; line-height: inherit\; font-family: inherit\; font-optical-sizing: inherit\; font-kerning: inherit\; font-feature-settings: inherit\; font-variation-settings: inherit\; margin: 0px\; padding: 0px\; vertical-align: baseline\; color: rgb(77\, 77\, 77) !important\;">for the flyer.</span></h3>\n\n<p align="left" style="margin: 0px\; padding: 0px\; color: rgb(123\, 110\, 101)\; font-family: Arial\, Verdana\, Helvetica\, sans-serif\; font-size: 12px\; background-color: rgb(255\, 255\, 255)\;"><span style="border: 0px\; font: inherit\; margin: 0px\; padding: 0px\; vertical-align: baseline\; color: rgb(86\, 77\, 71) !important\;">Donate blood and enter for a chance to win a motorcycle!</span></p>\n
LOCATION:Spring Grove Fire Department 8214 Richardson Road Spring Grove IL
UID:e.2066.5241
SEQUENCE:3
DTSTAMP:20260419T155133Z
URL:https://dev.chainolakeschamber.com/events/details/spring-grove-fire-department-community-blood-drive-5241
END:VEVENT

END:VCALENDAR
