BEGIN:VCALENDAR
VERSION:2.0
PRODID:-//ChamberMaster//Event Calendar 2.0//EN
METHOD:PUBLISH
X-PUBLISHED-TTL:P3D
REFRESH-INTERVAL:P3D
CALSCALE:GREGORIAN
BEGIN:VEVENT
DTSTART:20230520T140000Z
DTEND:20230520T180000Z
X-MICROSOFT-CDO-ALLDAYEVENT:FALSE
SUMMARY:Spring Grove Farmer's Market
DESCRIPTION:Spring Grove Farmer's Market:\n\nThis month Helping Hands Recycling is back to accept your unwanted textiles. May the spring cleaning continue!!!
X-ALT-DESC;FMTTYPE=text/html:<span style="font-size:12px\;">Spring Grove Farmer&#39\;s Market:<br />\nThis month&nbsp\;<a data-auth="NotApplicable" data-linkindex="1" data-safelink="true" href="https://r20.rs6.net/tn.jsp?f=001cneDCJGrfk1eME83Szx7H1YuVFT77kKVjeuJPhopOhGm9nWo1agDgPxo-ELf8FESQE7D7SV2mhcrrRWWq6OvHHkTsPZE_1eRyQQv25Zc0H2ee6xAXKClGdGIS8HK68w8RuZvsv4IStFJR5-kggKsI85UwQJvWx-U&amp\;c=ExMq0bfuAsf9xgCmlSU_W0VVyxuAAm3otrm4ELtGKi-LlySGsScUAA==&amp\;ch=AedUBnWtJj5LNA7RPsI3_WL4hN8X8AMv_KyWdnhuOisQdvMSNz18bA==" rel="noopener noreferrer" style="border: 0px\; font-variant-numeric: inherit\; font-variant-east-asian: inherit\; font-variant-alternates: inherit\; font-stretch: inherit\; font-size: 12px\; line-height: inherit\; font-family: Arial\, Verdana\, Helvetica\, sans-serif\; font-optical-sizing: inherit\; font-kerning: inherit\; font-feature-settings: inherit\; font-variation-settings: inherit\; margin: 0px\; padding: 0px\; vertical-align: baseline\; color: rgb(125\, 103\, 169) !important\;" target="_blank">Helping Hands Recycling</a><span style="color: rgb(123\, 110\, 101)\; font-family: Arial\, Verdana\, Helvetica\, sans-serif\;">&nbsp\;is back to accept your unwanted textiles. May the spring cleaning continue!!!</span></span>
LOCATION:Village Municipal Centre 7401 Meyer Road Spring Grove IL
UID:e.2066.5079
SEQUENCE:3
DTSTAMP:20260419T184403Z
URL:https://dev.chainolakeschamber.com/events/details/spring-grove-farmer-s-market-5079
END:VEVENT

END:VCALENDAR
