BEGIN:VCALENDAR
VERSION:2.0
PRODID:-//ChamberMaster//Event Calendar 2.0//EN
METHOD:PUBLISH
X-PUBLISHED-TTL:P3D
REFRESH-INTERVAL:P3D
CALSCALE:GREGORIAN
BEGIN:VEVENT
DTSTART:20221015T130000Z
DTEND:20221015T170000Z
X-MICROSOFT-CDO-ALLDAYEVENT:FALSE
SUMMARY:Spring Grove Farmer's Market
DESCRIPTION:
X-ALT-DESC;FMTTYPE=text/html:
LOCATION:Main & Blivin
UID:e.2066.4527
SEQUENCE:3
DTSTAMP:20260422T120942Z
URL:https://dev.chainolakeschamber.com/events/details/spring-grove-farmer-s-market-10-15-2022-4527
END:VEVENT

END:VCALENDAR
