BEGIN:VCALENDAR
VERSION:2.0
PRODID:-//ChamberMaster//Event Calendar 2.0//EN
METHOD:PUBLISH
X-PUBLISHED-TTL:P3D
REFRESH-INTERVAL:P3D
CALSCALE:GREGORIAN
BEGIN:VEVENT
DTSTART:20230304T150000Z
DTEND:20230304T190000Z
X-MICROSOFT-CDO-ALLDAYEVENT:FALSE
SUMMARY:Spring Grove Clothing Drive for Helping Hands
DESCRIPTION:Don't use it? Don't wear it? Don't like it? Give it a second life with Helping Hands     \n\n\n\nSee graphic for donation suggestions.
X-ALT-DESC;FMTTYPE=text/html:Don&#39\;t use it? Don&#39\;t wear it? Don&#39\;t like it? Give it a second life with Helping Hands&nbsp\;&nbsp\;&nbsp\;&nbsp\;&nbsp\;<br />\n<br />\nSee graphic for donation suggestions.
LOCATION:Village of Spring Grove 7401 Meyer Road Spring Grove IL
UID:e.2066.4997
SEQUENCE:3
DTSTAMP:20260419T203520Z
URL:https://dev.chainolakeschamber.com/events/details/spring-grove-clothing-drive-for-helping-hands-4997
END:VEVENT

END:VCALENDAR
