BEGIN:VCALENDAR
VERSION:2.0
PRODID:-//ChamberMaster//Event Calendar 2.0//EN
METHOD:PUBLISH
X-PUBLISHED-TTL:P3D
REFRESH-INTERVAL:P3D
CALSCALE:GREGORIAN
BEGIN:VEVENT
DTSTART:20230715T133000Z
DTEND:20230715T180000Z
X-MICROSOFT-CDO-ALLDAYEVENT:FALSE
SUMMARY:Spring Grove Clothing Drive
DESCRIPTION:The Village of Spring Grove has set up multiple recycling events throughout 2023\, our next one will be Saturday\, July 15 at the Village of Spring Grove Municipal Centre in conjunction with our Farmers Market.\n\n \n\nIt is estimated that 85% of all clothing and textiles end up in landfills in the U.S. today. With the goal of increasing recycling in mind\, Helping Hands Recycling Center collects unwanted textiles in an attempt to divert millions of pounds of clothing from landfills.  website https://www.clothingbinusa.com/about for the flyer.\n\n \n\nPlease note that the Helping Hands Recycling Center is not associated with our local food pantry\, Helping Hands Food pantry. Please do not drop off items to be recycled at Helping Hands Food Pantry.
X-ALT-DESC;FMTTYPE=text/html:<p style="margin: 0px\; padding: 0px\; color: rgb(123\, 110\, 101)\; font-family: Arial\, Verdana\, Helvetica\, sans-serif\; font-size: 12px\;"><span style="border: 0px\; font: inherit\; margin: 0px\; padding: 0px\; vertical-align: baseline\; color: rgb(107\, 107\, 107)\;">The Village of Spring Grove has set up multiple recycling events throughout 2023\, our next one will be Saturday\, July 15 at the&nbsp\;</span><a data-auth="NotApplicable" data-linkindex="1" href="https://r20.rs6.net/tn.jsp?f=001v00UIwb1RXNRW8ni-K1IHBk411gmH7G1o_b0UnO3cFjU4Ily4kttV00v7F1VjYb3BpEy-SYJ39LUNp4M3jyZDFqUV4N2DOQSqc2wCXeNNn7QroQJ4ROnyh1FXKvnO4oQmP6devVmfvq84_8pPZjg95BxV7qtYdx3IDV3Ui75caU=&amp\;c=UZ-1L54tIN4TOZohx-LuBie_9rZkLx1QXI0MSMoGYDGPZuoOUv9_QA==&amp\;ch=w5QflzX7Vw1WumV1QE2EWfKGHCxjXgaiVuyNTbek3N25w0BS55Xg8w==" rel="noopener noreferrer" style="border: 0px\; font-style: inherit\; font-variant: inherit\; font-stretch: inherit\; font-size: inherit\; line-height: inherit\; font-family: inherit\; font-optical-sizing: inherit\; font-kerning: inherit\; font-feature-settings: inherit\; font-variation-settings: inherit\; margin: 0px\; padding: 0px\; vertical-align: baseline\; color: rgb(107\, 107\, 107)\;" target="_blank">Village of Spring Grove Municipal Centre</a><span style="border: 0px\; font: inherit\; margin: 0px\; padding: 0px\; vertical-align: baseline\; color: rgb(107\, 107\, 107)\;">&nbsp\;in conjunction with our Farmers Market.</span><br />\n&nbsp\;</p>\n\n<p align="justify" style="margin: 0px\; padding: 0px\; color: rgb(123\, 110\, 101)\; font-family: Arial\, Verdana\, Helvetica\, sans-serif\; font-size: 12px\; text-align: justify\;"><span style="border: 0px\; font: inherit\; margin: 0px\; padding: 0px\; vertical-align: baseline\; color: rgb(107\, 107\, 107)\;">It is estimated that 85% of all clothing and textiles end&nbsp\;up in landfills in the U.S. today. With the goal of increasing recycling in mind\,&nbsp\;</span><a data-auth="NotApplicable" data-linkindex="2" href="https://r20.rs6.net/tn.jsp?f=001v00UIwb1RXNRW8ni-K1IHBk411gmH7G1o_b0UnO3cFjU4Ily4kttV00v7F1VjYb3eq_4wvyXj1_CZfhq2bH9RxTgbxFKhx4HIiAzvUtIqIYC0ZB3rD7s_PwbBlduoz4cj9d1nWq6G0G4KYBxD8kWtv74R2sQEz-9&amp\;c=UZ-1L54tIN4TOZohx-LuBie_9rZkLx1QXI0MSMoGYDGPZuoOUv9_QA==&amp\;ch=w5QflzX7Vw1WumV1QE2EWfKGHCxjXgaiVuyNTbek3N25w0BS55Xg8w==" rel="noopener noreferrer" style="border: 0px\; font-style: inherit\; font-variant: inherit\; font-stretch: inherit\; font-size: inherit\; line-height: inherit\; font-family: inherit\; font-optical-sizing: inherit\; font-kerning: inherit\; font-feature-settings: inherit\; font-variation-settings: inherit\; margin: 0px\; padding: 0px\; vertical-align: baseline\; color: rgb(107\, 107\, 107)\;" target="_blank">Helping Hands Recycling Center</a><span style="border: 0px\; font: inherit\; margin: 0px\; padding: 0px\; vertical-align: baseline\; color: rgb(107\, 107\, 107)\;">&nbsp\;collects unwanted textiles in an attempt to divert millions of pounds of clothing from landfills.&nbsp\; website&nbsp\;</span>https://www.clothingbinusa.com/about&nbsp\;<span style="border: 0px\; font: inherit\; margin: 0px\; padding: 0px\; vertical-align: baseline\; color: rgb(107\, 107\, 107)\;">for the flyer.</span><br />\n&nbsp\;</p>\n\n<p align="justify" style="margin: 0px\; padding: 0px\; color: rgb(123\, 110\, 101)\; font-family: Arial\, Verdana\, Helvetica\, sans-serif\; font-size: 12px\; text-align: justify\;"><span style="border: 0px\; font: inherit\; margin: 0px\; padding: 0px\; vertical-align: baseline\; color: rgb(107\, 107\, 107)\;">Please note that the Helping Hands Recycling Center is&nbsp\;</span><span style="border: 0px\; font-style: inherit\; font-variant: inherit\; font-weight: bold\; font-stretch: inherit\; font-size: inherit\; line-height: inherit\; font-family: inherit\; font-optical-sizing: inherit\; font-kerning: inherit\; font-feature-settings: inherit\; font-variation-settings: inherit\; margin: 0px\; padding: 0px\; vertical-align: baseline\; color: rgb(107\, 107\, 107)\; text-decoration-line: underline\;">not&nbsp\;</span><span style="border: 0px\; font: inherit\; margin: 0px\; padding: 0px\; vertical-align: baseline\; color: rgb(107\, 107\, 107)\;">associated with our local food pantry\, Helping Hands Food pantry. Please do not drop off items to be recycled at Helping Hands Food Pantry.</span></p>\n
LOCATION:Spring Grove Village Hall 7401 Meyer Road Spring Grove\, IL
UID:e.2066.5284
SEQUENCE:3
DTSTAMP:20260419T153154Z
URL:https://dev.chainolakeschamber.com/events/details/spring-grove-clothing-drive-5284
END:VEVENT

END:VCALENDAR
