BEGIN:VCALENDAR
VERSION:2.0
PRODID:-//ChamberMaster//Event Calendar 2.0//EN
METHOD:PUBLISH
X-PUBLISHED-TTL:P3D
REFRESH-INTERVAL:P3D
CALSCALE:GREGORIAN
BEGIN:VEVENT
DTSTART:20221203T213000Z
DTEND:20221203T233000Z
X-MICROSOFT-CDO-ALLDAYEVENT:FALSE
SUMMARY:Spring Grove Christmas Tree Lighting Festival
DESCRIPTION:You're invited to the Annual Christmas Tree Lighting Festival!\n\nVisit with Santa & Mrs. Claus! Hot drinks and cookies! Crafts! Enjoy hay wagon rides and storytelling! \n\nTree lighting at 5:00 pm!\n\n\n\nGive back to your community! We will be accepting donations of non-perishable food and toiletry items for the local food pantry.
X-ALT-DESC;FMTTYPE=text/html:<span style="color: rgb(112\, 100\, 92)\; font-family: Arial\, Verdana\, Helvetica\, sans-serif\; font-size: 12px\;">You&#39\;re invited to the Annual Christmas Tree Lighting Festival!</span><br />\n<font color="#70645c" face="Arial\, Verdana\, Helvetica\, sans-serif"><span style="font-size: 12px\;">Visit with Santa &amp\; Mrs. Claus! Hot drinks and cookies! Crafts! Enjoy hay wagon rides and storytelling!&nbsp\;</span></font><br />\nTree lighting at 5:00 pm!<br />\n<br />\nGive back to your community! We will be accepting donations of non-perishable food and toiletry items for the local food pantry.<br />\n&nbsp\;
LOCATION:Horse Fair Park
UID:e.2066.4884
SEQUENCE:3
DTSTAMP:20260420T021446Z
URL:https://dev.chainolakeschamber.com/events/details/spring-grove-christmas-tree-lighting-festival-4884
END:VEVENT

END:VCALENDAR
