BEGIN:VCALENDAR
VERSION:2.0
PRODID:-//ChamberMaster//Event Calendar 2.0//EN
METHOD:PUBLISH
X-PUBLISHED-TTL:P3D
REFRESH-INTERVAL:P3D
CALSCALE:GREGORIAN
BEGIN:VEVENT
DTSTART:20230401T190000Z
DTEND:20230401T220000Z
X-MICROSOFT-CDO-ALLDAYEVENT:FALSE
SUMMARY:Spring Grove Annual Egg Hunt
DESCRIPTION:Meet the Easter Bunny and bring your basket. Find the "special eggs" and win a special prize or fun-filled basket. There is no charge\, but please bring a non-perishable food item to help support the local food pantry. Registration is encouraged but not mandatory\, click here to sign up.
X-ALT-DESC;FMTTYPE=text/html:<span style="color: rgb(123\, 110\, 101)\; font-family: Arial\, Verdana\, Helvetica\, sans-serif\; font-size: 12px\; background-color: rgb(255\, 255\, 255)\;">Meet the Easter Bunny and bring your basket. Find the &quot\;special eggs&quot\; and win a special prize or fun-filled basket. There is no charge\, but please bring a non-perishable food item to help support the local food pantry. Registration is encouraged but not mandatory\, click&nbsp\;</span><a data-auth="NotApplicable" data-linkindex="1" data-safelink="true" href="https://r20.rs6.net/tn.jsp?f=001mPVLRnQwcIXbK8Iavq6IeMjl_HNKhjW2Jnzwr8oGwri1-8r9qh4b-ttPA17sBtNMy-T0Bn6Tt-wI3jo0wYD2eZYez_5uLFYTV4dmWka2JLIlqDvFuF1I6eG2G62Ufs4otN4w6Y3LwUkibz3tNCqXe5utSmLqZDszPyOh5hQSdlcWCQgGR3li5TfkXaqFXPLskz_xEbpg4_ww2G84X0Nca-7gVUw1yVauCPvEwhaRot1WWRtrzanjpcBct_1cfq7FCAPbeQkwkRHHV_QG4USmQgVkNxAO2_Z8oxyR7Dt7C8y1FHsTzDggiElOJ-SwC0f60UYlJTDpLzdz9CBpNpvp-5Jr3joBfwoBrOvjM95csuRl58_ypKYuHQ==&amp\;c=g8u42EGRUpx74hstVhTlP3tr3llkCQMvw7giDkXFID5e9Vb8JTBfMg==&amp\;ch=poK4qaBCdbsyXpXOaMsaFrXD1zMY0zcTlLD3bt3hLFYNA-5BuI0iGQ==" rel="noopener noreferrer" style="border: 0px\; font-variant-numeric: inherit\; font-variant-east-asian: inherit\; font-stretch: inherit\; font-size: 12px\; line-height: inherit\; font-family: Arial\, Verdana\, Helvetica\, sans-serif\; margin: 0px\; padding: 0px\; vertical-align: baseline\; background-color: rgb(255\, 255\, 255)\; color: rgb(125\, 103\, 169)\;" target="_blank">here&nbsp\;</a><span style="color: rgb(123\, 110\, 101)\; font-family: Arial\, Verdana\, Helvetica\, sans-serif\; font-size: 12px\; background-color: rgb(255\, 255\, 255)\;">to sign up.</span>
LOCATION:Thelen Park 8l516 Winn Rd Spring Grove IL
UID:e.2066.5025
SEQUENCE:3
DTSTAMP:20260419T185125Z
URL:https://dev.chainolakeschamber.com/events/details/spring-grove-annual-egg-hunt-5025
END:VEVENT

END:VCALENDAR
