BEGIN:VCALENDAR
VERSION:2.0
PRODID:-//ChamberMaster//Event Calendar 2.0//EN
METHOD:PUBLISH
X-PUBLISHED-TTL:P3D
REFRESH-INTERVAL:P3D
CALSCALE:GREGORIAN
BEGIN:VEVENT
DTSTART:20180704T170000Z
DTEND:20180704T170000Z
X-MICROSOFT-CDO-ALLDAYEVENT:FALSE
SUMMARY:Spring Grove 4th of July Festivities
DESCRIPTION:The celebration consists of a 2-hour parade beginning at noon\, a festival immediately following at Horse Fair Park with food and fun\, live music from 5-9 p.m. and a firework display at dusk. The fireworks show is made possible by community donations. View the 4th of July Committee website for more information! Click on Events/parade registration for parade information.
X-ALT-DESC;FMTTYPE=text/html:The celebration consists of a 2-hour parade beginning at noon\, a festival immediately following at Horse Fair Park with food and fun\, live music from 5-9 p.m. and a firework display at dusk. The fireworks show is made possible by community donations. View the 4th of July Committee website for more information! Click on Events/parade registration for parade information.
LOCATION:Horse Fair Park 8105 Blivin
UID:e.2066.1169
SEQUENCE:3
DTSTAMP:20260425T204220Z
URL:https://dev.chainolakeschamber.com/events/details/spring-grove-4th-of-july-festivities-1169
END:VEVENT

END:VCALENDAR
