BEGIN:VCALENDAR
VERSION:2.0
PRODID:-//ChamberMaster//Event Calendar 2.0//EN
METHOD:PUBLISH
X-PUBLISHED-TTL:P3D
REFRESH-INTERVAL:P3D
CALSCALE:GREGORIAN
BEGIN:VEVENT
DTSTART:20190918T163000Z
DTEND:20190918T183000Z
X-MICROSOFT-CDO-ALLDAYEVENT:FALSE
SUMMARY:Speed Networking Luncheon
DESCRIPTION:Speed Networking\n\n\n\nWednesday September 18 Multi-Chamber/Multi-State Speed Networking
X-ALT-DESC;FMTTYPE=text/html:<span style="font-size:14px\;">Speed Networking<br />\n<br />\nWednesday September 18 Multi-Chamber/Multi-State Speed Networking</span>
LOCATION:Dockers North Restaurant in Antioch 955 IL Route 59\, Antioch\, IL 60002 Click link below to register with the Antioch Chamber directly https://cm.antiochchamber.org/events/details/speed-networking-luncheon-9-18-19-6717
UID:e.2066.2990
SEQUENCE:3
DTSTAMP:20260424T233053Z
URL:https://dev.chainolakeschamber.com/events/details/speed-networking-luncheon-2990
END:VEVENT

END:VCALENDAR
