BEGIN:VCALENDAR
VERSION:2.0
PRODID:-//ChamberMaster//Event Calendar 2.0//EN
METHOD:PUBLISH
X-PUBLISHED-TTL:P3D
REFRESH-INTERVAL:P3D
CALSCALE:GREGORIAN
BEGIN:VEVENT
DTSTART:20230823T200000Z
DTEND:20230823T220000Z
X-MICROSOFT-CDO-ALLDAYEVENT:FALSE
SUMMARY:Spark'd Dispensary Lounge Grand Opening!
DESCRIPTION:Spark'd Dispensary + Lounge has arrived in Richmond! Join us for the Grand Opening on August 23rd. We'd love to see you there.\n\n20% entire menu!\n\nOpen 10am-10pm every day starting August 23rd. \n\nMake a Spark'd Account to get $25 off your first pre-order of $50 or more! Learn More
X-ALT-DESC;FMTTYPE=text/html:<p class="x_xmsonormal" style="margin: 0in\; font-size: 11pt\; font-family: Calibri\, sans-serif\; color: rgb(36\, 36\, 36)\;"><span style="border: 0px\; font: inherit\; margin: 0px\; padding: 0px\; vertical-align: baseline\; color: black !important\;">Spark&rsquo\;d Dispensary + Lounge has arrived in Richmond!&nbsp\;Join us for the Grand Opening on August 23rd. We&rsquo\;d love to see you there.</span><br />\n20% entire menu!<br aria-hidden="true" />\n<span style="border: 0px\; font: inherit\; margin: 0px\; padding: 0px\; vertical-align: baseline\; color: black !important\;">Open 10am-10pm every day starting August 23<sup>rd</sup>.<span class="x_apple-converted-space" style="border: 0px\; font: inherit\; margin: 0px\; padding: 0px\; vertical-align: baseline\; color: inherit\;">&nbsp\;</span></span></p>\n\n<p class="x_xmsonormal" style="margin: 0in\; font-size: 11pt\; font-family: Calibri\, sans-serif\; color: rgb(36\, 36\, 36)\;"><span style="border: 0px\; font: inherit\; margin: 0px\; padding: 0px\; vertical-align: baseline\; color: black !important\;">Make a Spark&rsquo\;d Account to get $25 off your first pre-order of $50 or more!<span class="x_apple-converted-space" style="border: 0px\; font: inherit\; margin: 0px\; padding: 0px\; vertical-align: baseline\; color: inherit\;">&nbsp\;</span><a data-auth="NotApplicable" data-linkindex="0" href="https://www.sparkdcannabis.com/blog/sparkd-dispensary-richmond-grand-opening" rel="noopener noreferrer" style="border: 0px\; font: inherit\; margin: 0px\; padding: 0px\; vertical-align: baseline\; color: rgb(5\, 99\, 193)\;" target="_blank" title="https://www.sparkdcannabis.com/blog/sparkd-dispensary-richmond-grand-opening">Learn More</a></span></p>\n
LOCATION:Spark'd Dispensary Lounge 9705 Prairie Ridge Road Richmond IL 60071
UID:e.2066.5405
SEQUENCE:3
DTSTAMP:20260419T121335Z
URL:https://dev.chainolakeschamber.com/events/details/spark-d-dispensary-lounge-grand-opening-5405
END:VEVENT

END:VCALENDAR
