BEGIN:VCALENDAR
VERSION:2.0
PRODID:-//ChamberMaster//Event Calendar 2.0//EN
METHOD:PUBLISH
X-PUBLISHED-TTL:P3D
REFRESH-INTERVAL:P3D
CALSCALE:GREGORIAN
BEGIN:VEVENT
DTSTART:20230308T223000Z
DTEND:20230309T013000Z
X-MICROSOFT-CDO-ALLDAYEVENT:FALSE
SUMMARY:Spaghetti Dinner - Richmondi-Spring Grove Area Rotary
DESCRIPTION:Richmond-Spring Grove Rotary is hosting a Spaghetti Dinner at Richardson's Adventure Farm - All proceeds benefit the Richmond-Spring Grove Community Food Pantry!  Pre-order online by March 06!\n\n\n\nDine in tickets include: spaghetti\, bread\, salad\, soft drinks\, coffee and dessert\n\n\n\nDrive-up tickets include: spaghetti\, bread\, salad and dessert
X-ALT-DESC;FMTTYPE=text/html:Richmond-Spring Grove Rotary is hosting a Spaghetti Dinner at Richardson&#39\;s Adventure Farm - All proceeds benefit the Richmond-Spring Grove Community Food Pantry!&nbsp\; Pre-order online by March 06!<br />\n<br />\nDine in tickets include: spaghetti\, bread\, salad\, soft drinks\, coffee and dessert<br />\n<br />\nDrive-up tickets include: spaghetti\, bread\, salad and dessert
LOCATION:Richardson Adventure Farm 909 English Prairie Road Spring Grove IL
UID:e.2066.4984
SEQUENCE:3
DTSTAMP:20260419T223211Z
URL:https://dev.chainolakeschamber.com/events/details/spaghetti-dinner-richmondi-spring-grove-area-rotary-4984
END:VEVENT

END:VCALENDAR
