BEGIN:VCALENDAR
VERSION:2.0
PRODID:-//ChamberMaster//Event Calendar 2.0//EN
METHOD:PUBLISH
X-PUBLISHED-TTL:P3D
REFRESH-INTERVAL:P3D
CALSCALE:GREGORIAN
BEGIN:VEVENT
DTSTART:20210210T223000Z
DTEND:20210211T013000Z
X-MICROSOFT-CDO-ALLDAYEVENT:FALSE
SUMMARY:Spaghetti Dinner Presented by Richmond Spring Grove Rotary
DESCRIPTION:Dinner includes-  spaghetti\, bread\, salad\, and desert.\n\n\n\n\n\nAll precedes benefit the Richmond Spring Grove\n\nCOMMUNITY FOOD PANTRY
X-ALT-DESC;FMTTYPE=text/html:Dinner includes-&nbsp\; spaghetti\, bread\, salad\, and desert.<br />\n<br />\n<br />\nAll precedes benefit the Richmond Spring Grove<br />\n<span style="font-size:16px\;"><strong>COMMUNITY FOOD PANTRY</strong></span>
LOCATION:Richardson Adventure Farm EVENT BARN 909 English Prairie Rd Spring Grove IL
UID:e.2066.3709
SEQUENCE:3
DTSTAMP:20260423T193414Z
URL:https://dev.chainolakeschamber.com/events/details/spaghetti-dinner-presented-by-richmond-spring-grove-rotary-3709
END:VEVENT

END:VCALENDAR
