BEGIN:VCALENDAR
VERSION:2.0
PRODID:-//ChamberMaster//Event Calendar 2.0//EN
METHOD:PUBLISH
X-PUBLISHED-TTL:P3D
REFRESH-INTERVAL:P3D
CALSCALE:GREGORIAN
BEGIN:VEVENT
DTSTART:20200219T220000Z
DTEND:20200220T020000Z
X-MICROSOFT-CDO-ALLDAYEVENT:FALSE
SUMMARY:Spaghetti Dinner Presented by Richmond Spring Grove Rotary
DESCRIPTION:Dinner includes: all you can eat spaghetti\, bread\, salad\, soft drink\, coffee and desert.\n\n\n\nCarry-outs are available\n\nAll precedes benefit the Richmond Spring Grove\n\nCOMMUNITY FOOD PANTRY
X-ALT-DESC;FMTTYPE=text/html:Dinner includes: all you can eat spaghetti\, bread\, salad\, soft drink\, coffee and desert.<br />\n<br />\n<strong><span style="font-size:18px\;"><span style="font-family:times new roman\;">Carry-outs are available</span></span></strong><br />\nAll precedes benefit the Richmond Spring Grove<br />\n<span style="font-size:16px\;"><strong>COMMUNITY FOOD PANTRY</strong></span>
LOCATION:Richardson Farm new location this year Richardson Adventure Farm EVENT BARN 909 English Prairie Rd Spring Grove IL
UID:e.2066.3249
SEQUENCE:3
DTSTAMP:20260424T160330Z
URL:https://dev.chainolakeschamber.com/events/details/spaghetti-dinner-presented-by-richmond-spring-grove-rotary-3249
END:VEVENT

END:VCALENDAR
