BEGIN:VCALENDAR
VERSION:2.0
PRODID:-//ChamberMaster//Event Calendar 2.0//EN
METHOD:PUBLISH
X-PUBLISHED-TTL:P3D
REFRESH-INTERVAL:P3D
CALSCALE:GREGORIAN
BEGIN:VEVENT
DTSTART:20190227T220000Z
DTEND:20190228T020000Z
X-MICROSOFT-CDO-ALLDAYEVENT:FALSE
SUMMARY:Spaghetti Dinner
DESCRIPTION:Presented by Richmond Spring Grove Rotary\n\n\n\nDinner includes: all you can eat spaghetti\, bread\, salad\, soft drink\, coffee and desert.\n\n\n\nCarry-outs are available\n\nAll precedes benefit the Richmond Spring Grove\n\nCOMMUNITY FOOD PANTRY
X-ALT-DESC;FMTTYPE=text/html:Presented by Richmond Spring Grove Rotary<br />\n<br />\nDinner includes: all you can eat spaghetti\, bread\, salad\, soft drink\, coffee and desert.<br />\n<br />\nCarry-outs are available<br />\nAll precedes benefit the Richmond Spring Grove<br />\n<span style="font-size:16px\;"><strong>COMMUNITY FOOD PANTRY</strong></span>
LOCATION:Richardson Farm Christmas Tree Barn 9407 Richardson Rd Spring Grove IL
UID:e.2066.2191
SEQUENCE:3
DTSTAMP:20260425T115526Z
URL:https://dev.chainolakeschamber.com/events/details/spaghetti-dinner-2191
END:VEVENT

END:VCALENDAR
