BEGIN:VCALENDAR
VERSION:2.0
PRODID:-//ChamberMaster//Event Calendar 2.0//EN
METHOD:PUBLISH
X-PUBLISHED-TTL:P3D
REFRESH-INTERVAL:P3D
CALSCALE:GREGORIAN
BEGIN:VEVENT
DTSTART:20220518T210000Z
DTEND:20220518T220000Z
X-MICROSOFT-CDO-ALLDAYEVENT:FALSE
SUMMARY:Social Media Page Creation
DESCRIPTION:Learn about design tools for logo and content creation\, ways to grab customer attention\, and how to build your initial following.
X-ALT-DESC;FMTTYPE=text/html:<span style="color: rgb(228\, 230\, 235)\; font-family: &quot\;Segoe UI Historic&quot\;\, &quot\;Segoe UI&quot\;\, Helvetica\, Arial\, sans-serif\; font-size: 15px\; background-color: rgb(36\, 37\, 38)\;">Learn about design tools for logo and content creation\, ways to grab customer attention\, and how to build your initial following.</span>
LOCATION:10910 N. Main St Richmond\, IL 60071
UID:e.2066.4532
SEQUENCE:3
DTSTAMP:20260422T190708Z
URL:https://dev.chainolakeschamber.com/events/details/social-media-page-creation-4532
END:VEVENT

END:VCALENDAR
