BEGIN:VCALENDAR
VERSION:2.0
PRODID:-//ChamberMaster//Event Calendar 2.0//EN
METHOD:PUBLISH
X-PUBLISHED-TTL:P3D
REFRESH-INTERVAL:P3D
CALSCALE:GREGORIAN
BEGIN:VEVENT
DTSTART:20210128T230000Z
DTEND:20210129T000000Z
X-MICROSOFT-CDO-ALLDAYEVENT:FALSE
SUMMARY:sobre inmigración
DESCRIPTION:Please join me for a virtual webinar on President Biden's executive orders on immigration and the DACA program. This event will have simultaneous Spanish interpretation available. \n\nImmigration Webinar on President Biden's Executive Orders\n\nEspa ol:\n\nQuiero invitarlos a un foro virtual sobre las  rdenes Ejecutivas de inmigraci n en los que se ofrecer  interpretaci n simult nea. Espero que nos puedan acompa ar. \n\nForo virtual sobre las  rdenes Ejecutivas de Inmigraci n\n\nJueves\, Enero 28 a las 5:00 PM\n\n\n\n nase al Congresista Brad Schneider en un foro virtual para conocer sobre las  rdenes ejecutivas recientemente anunciadas por el Presidente Biden y su impacto en nuestro sistema de inmigraci n. Expertos presentar n las nuevas pol ticas\, y responder n preguntas. Interpretaci n en Espa ol estar  disponible. \n\n\n\n\n\nThursday\, January 28 at 5:00 pm \n\nJoin me to learn about President Biden's newly announced executive orders and their impact on our immigration system. Experts will present on the new policies and help answer any questions that you may have.
X-ALT-DESC;FMTTYPE=text/html:<span style="color:black\;"><span style="font-family:arial\,sans-serif\;">Please join me for a virtual webinar on President Biden&rsquo\;s executive orders on immigration and the DACA program. This event will have simultaneous Spanish interpretation available. </span></span><br />\n<strong><span style="color:black\;"><span style="font-family:arial\,sans-serif\;">Immigration Webinar on President Biden&rsquo\;s Executive Orders</span></span></strong><br />\n<strong><u><span style="color:black\;"><span style="font-family:arial\,sans-serif\;">Espa&ntilde\;ol:</span></span></u></strong><br />\n<span style="color:black\;"><span style="font-family:arial\,sans-serif\;">Quiero invitarlos a un foro virtual sobre las &Oacute\;rdenes Ejecutivas de inmigraci&oacute\;n en los que se ofrecer&aacute\; interpretaci&oacute\;n simult&aacute\;nea. Espero que nos puedan acompa&ntilde\;ar. </span></span><br />\n<strong><span style="color:black\;"><span style="font-family:arial\,sans-serif\;">Foro virtual sobre las &Oacute\;rdenes Ejecutivas de Inmigraci&oacute\;n</span></span></strong><br />\n<span style="color:black\;"><span style="font-family:arial\,sans-serif\;">Jueves\, Enero 28 a las 5:00 PM<br />\n<br />\n&Uacute\;nase al Congresista Brad Schneider en un foro virtual para conocer sobre las &oacute\;rdenes ejecutivas recientemente anunciadas por el Presidente Biden y su impacto en nuestro sistema de inmigraci&oacute\;n. Expertos presentar&aacute\;n las nuevas pol&iacute\;ticas\, y responder&aacute\;n preguntas. Interpretaci&oacute\;n en Espa&ntilde\;ol estar&aacute\; disponible. </span></span><br />\n<br />\n<br />\n<span style="color:black\;"><span style="font-family:arial\,sans-serif\;">Thursday\, January 28 at 5:00 pm </span></span><br />\n<span style="color:black\;"><span style="font-family:arial\,sans-serif\;">Join me to learn about President Biden&#39\;s newly announced executive orders and their impact on our immigration system. Experts will present on the new policies and help answer any questions that you may have. </span></span><br />\n&nbsp\;
LOCATION:
UID:e.2066.3708
SEQUENCE:3
DTSTAMP:20260423T223725Z
URL:https://dev.chainolakeschamber.com/events/details/sobre-inmigraci&#243;n-3708
END:VEVENT

END:VCALENDAR
