BEGIN:VCALENDAR
VERSION:2.0
PRODID:-//ChamberMaster//Event Calendar 2.0//EN
METHOD:PUBLISH
X-PUBLISHED-TTL:P3D
REFRESH-INTERVAL:P3D
CALSCALE:GREGORIAN
BEGIN:VEVENT
DTSTART:20230815T150000Z
DTEND:20230815T160000Z
X-MICROSOFT-CDO-ALLDAYEVENT:FALSE
SUMMARY:Small Business Financial Academy
DESCRIPTION:Tuesdays\, August 15 to November 7 10   11 a.m. (13 sessions) Business finance skills are critical to small business success. Whether you are just starting or have been at it for a while the new Small Business Financial Academy will help you to make smart financial decisions for your company. Join the Small Business Development Center at College of Lake County and Wintrust Bank for a 13-module series presented virtually by seasoned Wintrust commercial lenders throughout Lake County. 1 Is Owning a Business a Good Fit for You? 2 Planning for a Healthy Business 3 Organizational Types and Considerations 4 Management 5 Financial Management 6 Record Keeping 7 Managing Cash Flow 8 Risk Management 9 Credit Reporting 10 Banking Services Available 11 Business Insurance 12 Tax Planning and Reporting 13 Selling & Succession Planning Presented by one or more Wintrust commercial lenders: Michael Barbini\, Marci DiProva\, Lisa Meggs or Leonardo Cracchiolo
X-ALT-DESC;FMTTYPE=text/html:Tuesdays\, August 15 to November 7 10 &ndash\; 11 a.m. (13 sessions) Business finance skills are critical to small business success. Whether you are just starting or have been at it for a while the new Small Business Financial Academy will help you to make smart financial decisions for your company. Join the Small Business Development Center at College of Lake County and Wintrust Bank for a 13-module series presented virtually by seasoned Wintrust commercial lenders throughout Lake County. 1 Is Owning a Business a Good Fit for You? 2 Planning for a Healthy Business 3 Organizational Types and Considerations 4 Management 5 Financial Management 6 Record Keeping 7 Managing Cash Flow 8 Risk Management 9 Credit Reporting 10 Banking Services Available 11 Business Insurance 12 Tax Planning and Reporting 13 Selling &amp\; Succession Planning Presented by one or more Wintrust commercial lenders: Michael Barbini\, Marci DiProva\, Lisa Meggs or Leonardo Cracchiolo
LOCATION:Live Zoom
UID:e.2066.5334
SEQUENCE:3
DTSTAMP:20260419T134321Z
URL:https://dev.chainolakeschamber.com/events/details/small-business-financial-academy-5334
END:VEVENT

END:VCALENDAR
