BEGIN:VCALENDAR
VERSION:2.0
PRODID:-//ChamberMaster//Event Calendar 2.0//EN
METHOD:PUBLISH
X-PUBLISHED-TTL:P3D
REFRESH-INTERVAL:P3D
CALSCALE:GREGORIAN
BEGIN:VEVENT
DTSTART:20220519T140000Z
DTEND:20220519T144500Z
X-MICROSOFT-CDO-ALLDAYEVENT:FALSE
SUMMARY:Small Business Attraction & Retention Series
DESCRIPTION:Affordable and easy solutions for small business owners addressing key issues associated with attracting\, hiring and keeping talent in today's tough labor market. This series offers seven short virtual sessions designed specifically for small business owners that address current talent acquisition concerns and provides action items that can be customized and used immediately to make themselves more able to attract and retain the workers they need. The over-arching theme is about company culture but will be broken down into more discrete elements with practical\, tactical ideas for each. Participants are encouraged to step back and assess how they can effectively implement changes and improvements that are not complicated\, don't take much time or money to apply\, and yet can have a significant impact on the bottom line during these challenging times.
X-ALT-DESC;FMTTYPE=text/html:Affordable and easy solutions for small business owners addressing key issues associated with attracting\, hiring and keeping talent in today&#39\;s tough labor market. This series offers seven short virtual sessions designed specifically for small business owners that address current talent acquisition concerns and provides action items that can be customized and used immediately to make themselves more able to attract and retain the workers they need. The over-arching theme is about company culture but will be broken down into more discrete elements with practical\, tactical ideas for each. Participants are encouraged to step back and assess how they can effectively implement changes and improvements that are not complicated\, don&rsquo\;t take much time or money to apply\, and yet can have a significant impact on the bottom line during these challenging times.
LOCATION:Virtual Live
UID:e.2066.4503
SEQUENCE:3
DTSTAMP:20260422T204926Z
URL:https://dev.chainolakeschamber.com/events/details/small-business-attraction-retention-series-05-19-2022-4503
END:VEVENT

END:VCALENDAR
