BEGIN:VCALENDAR
VERSION:2.0
PRODID:-//ChamberMaster//Event Calendar 2.0//EN
METHOD:PUBLISH
X-PUBLISHED-TTL:P3D
REFRESH-INTERVAL:P3D
CALSCALE:GREGORIAN
BEGIN:VEVENT
DTSTART:20221114T010000Z
DTEND:20221114T030000Z
X-MICROSOFT-CDO-ALLDAYEVENT:FALSE
SUMMARY:Show Tune Party with Michael Lescher
DESCRIPTION:All of you have seen me perform at clubs\, doing mostly Classic Rock songs. I thought a few of you might enjoy and evening of show tunes from old Rogers & Hammerstein musicals to Evita & Cats & Phantom of the Opera. You are invited to my house on Sunday\, November 13th at 7:00 p.m. We'll have desserts\, coffee and\, of course\, cocktails. Please RSVP so I have an idea of how many to expect.   See you then.
X-ALT-DESC;FMTTYPE=text/html:<span style="color: rgb(36\, 36\, 36)\; font-family: Calibri\, sans-serif\; font-size: 14.6667px\; background-color: rgb(255\, 255\, 255)\;">All of you have seen me perform at clubs\, doing mostly Classic Rock songs. I thought a few of you might enjoy and evening of show tunes from old Rogers &amp\; Hammerstein musicals to Evita &amp\; Cats &amp\; Phantom of the Opera. You are invited to my house on Sunday\, November 13</span><sup style="color: rgb(36\, 36\, 36)\; font-family: Calibri\, sans-serif\; background-color: rgb(255\, 255\, 255)\;">th</sup><span style="color: rgb(36\, 36\, 36)\; font-family: Calibri\, sans-serif\; font-size: 14.6667px\; background-color: rgb(255\, 255\, 255)\;">&nbsp\;at 7:00 p.m. We&rsquo\;ll have desserts\, coffee and\, of course\, cocktails. Please RSVP so I have an idea of how many to expect.&nbsp\; &nbsp\;See you then.</span>
LOCATION:3412 Oakdale Ave Johnsburg\, IL
UID:e.2066.4876
SEQUENCE:3
DTSTAMP:20260422T090941Z
URL:https://dev.chainolakeschamber.com/events/details/show-tune-party-with-michael-lescher-4876
END:VEVENT

END:VCALENDAR
