BEGIN:VCALENDAR
VERSION:2.0
PRODID:-//ChamberMaster//Event Calendar 2.0//EN
METHOD:PUBLISH
X-PUBLISHED-TTL:P3D
REFRESH-INTERVAL:P3D
CALSCALE:GREGORIAN
BEGIN:VEVENT
DTSTART:20210918T150000Z
DTEND:20210918T190000Z
X-MICROSOFT-CDO-ALLDAYEVENT:FALSE
SUMMARY:Sheriff's Office Open House
DESCRIPTION:The Open House will feature child fingerprinting\, jail cell tours\, vehicle displays\, equipment displays\, and motorcycle & K9 demonstrations. We welcome families from all around the opportunity to meet our deputies and officers and see first-hand what goes on at the Sheriff's Office. This event is free and open to anyone.
X-ALT-DESC;FMTTYPE=text/html:<span style="color:black\;"><span style="font-size:12.0pt\;">The Open House will&nbsp\;feature child fingerprinting\, jail cell tours\, vehicle displays\,&nbsp\;equipment displays\, and&nbsp\;motorcycle &amp\; K9 demonstrations. We welcome families from all around the&nbsp\;opportunity to&nbsp\;meet our deputies and officers and see first-hand what goes on at the Sheriff&#39\;s Office. This event is free and open to anyone.</span></span><br />\n&nbsp\;<br />\n&nbsp\;
LOCATION:Sheriff's Office in Woodstock (2200 N. Seminary Ave).
UID:e.2066.4125
SEQUENCE:3
DTSTAMP:20260423T083020Z
URL:https://dev.chainolakeschamber.com/events/details/sheriff-s-office-open-house-4125
END:VEVENT

END:VCALENDAR
